BEGIN:VCALENDAR
VERSION:2.0
PRODID:-//GEFEG mbH - ECPv6.15.20//NONSGML v1.0//EN
CALSCALE:GREGORIAN
METHOD:PUBLISH
X-ORIGINAL-URL:https://www.gefeg.com
X-WR-CALDESC:Veranstaltungen für GEFEG mbH
REFRESH-INTERVAL;VALUE=DURATION:PT1H
X-Robots-Tag:noindex
X-PUBLISHED-TTL:PT1H
BEGIN:VTIMEZONE
TZID:Europe/Berlin
BEGIN:DAYLIGHT
TZOFFSETFROM:+0100
TZOFFSETTO:+0200
TZNAME:CEST
DTSTART:20220327T010000
END:DAYLIGHT
BEGIN:STANDARD
TZOFFSETFROM:+0200
TZOFFSETTO:+0100
TZNAME:CET
DTSTART:20221030T010000
END:STANDARD
BEGIN:DAYLIGHT
TZOFFSETFROM:+0100
TZOFFSETTO:+0200
TZNAME:CEST
DTSTART:20230326T010000
END:DAYLIGHT
BEGIN:STANDARD
TZOFFSETFROM:+0200
TZOFFSETTO:+0100
TZNAME:CET
DTSTART:20231029T010000
END:STANDARD
BEGIN:DAYLIGHT
TZOFFSETFROM:+0100
TZOFFSETTO:+0200
TZNAME:CEST
DTSTART:20240331T010000
END:DAYLIGHT
BEGIN:STANDARD
TZOFFSETFROM:+0200
TZOFFSETTO:+0100
TZNAME:CET
DTSTART:20241027T010000
END:STANDARD
END:VTIMEZONE
BEGIN:VEVENT
DTSTART;TZID=Europe/Berlin:20231017T090000
DTEND;TZID=Europe/Berlin:20231017T170000
DTSTAMP:20260422T002544
CREATED:20230727T145914Z
LAST-MODIFIED:20231002T150432Z
UID:10000102-1697533200-1697562000@www.gefeg.com
SUMMARY:Datenformate im EDI-Umfeld - Training
DESCRIPTION:UN/EDIFACT\, GS1 EANCOM®\, Flatfile\, SAP IDoc\, VDA und mehr: Erfahren Sie mehr über die wichtigsten Datenaustauschformate und EDI-Standards für den Austausch von Geschäftsdaten\nEDI-Datenaustauschformate oder EDI-Standards liefern eine wichtige Grundlage für den elektronischen Datenaustausch: sie stellen eine Grundlage für die Erstellung von kundenspezifischen Guidelines bereit und unterstützen Anwender durch inhaltliche Richtlinien für den Datenaustausch. \nOft wird EDI (Electronic Data Interchange) mit EDIFACT gleichgesetzt. Dabei umfasst EDI alle Standards\, die im B2B und B2C Umfeld das Papierdokument ersetzen. Sie lernen in diesem Training nicht nur den branchenunabhängigen EDI-Standard UN/EDIFACT kennen\, sondern erhalten auch Einblicke in weitere EDI-Standards\, z.B. GS1 EANCOM® und die neuen VDA Empfehlungen: diese basieren auf EDIFACT und unterscheiden sich voneinander\, da sie aus der Perspektive ihrer eigenen Branche weiter spezifiziert wurden. Um die Gemeinsamkeiten und Unterschiede zu erkennen\, stellen wir Prinzipien und Aufbau dieser Standards vor. \nThemen des Trainings Datenformate im EDI-Umfeld\n\nDatenformate und EDI-Standards für den elektronischen Datenaustausch\nDatensatz und Feld\, Gruppierung von Datensätzen und Feldern\, Header und Trailer Record\nAufbau\, Besonderheiten\, Gemeinsamkeiten und Unterschiede von verschiedenen Austauschformaten für EDI\nAbgrenzung zu XML basierten Standards\nWeitere Datenstandards: ASC X12\, Tradacoms\, CSV\, Flatfile\, GS1 XML\, SEPA XML\, ISO20022 XML.\n\nHaben Sie Fragen zum Webinar und / oder Input zu weiteren Webinar-Themen? \nWas wissen Sie anschließend?\nSie kennen die wichtigen Datenformate und EDI-Standards und können erkennen\, welche besonderen Merkmale diese haben. Sie wissen\, wie die Formate zu handhaben sind und wie Sie mit welchen Hilfsmitteln die Formate lesen können. \nWer sollte teilnehmen?\nDas Training richtet sich EDI-Einsteiger\, Mitarbeiter von Fachabteilungen\, EDI-Projektgruppen\, IT- und EDI-Abteilungen\, EDI- und e-Business-Berater\, die die wichtigen Datenaustauschformate für EDI kennenlernen wollen sowie Mitarbeiter mit Aufgaben im Bereich Datenkonvertierung. \nWelche Kenntnisse sollten Sie mitbringen?\nIT-Grundkenntnisse sind empfehlenswert. \nWie lange dauert das Training?\nPlanen Sie am besten einen ganzen Arbeitstag ein. \nWann findet das Training statt?\n17. Oktober 2023\, 9:00 – 17:00 Uhr \n \n        \n    \n\n\n\n\n\n    \n    \n	\n		\n        Schade. Die Anmeldefrist ist abgelaufen. Schauen Sie doch einmal hier nach Alternativen.
URL:https://www.gefeg.com/event/datenformate-im-edi-umfeld-training/
LOCATION:Online
CATEGORIES:Online-Training
ATTACH;FMTTYPE=image/jpeg:https://www.gefeg.com/wp-content/uploads/2023/07/Training-Datenformate-im-EDI-Umfeld.jpg
END:VEVENT
BEGIN:VEVENT
DTSTART;TZID=Europe/Berlin:20230929T130000
DTEND;TZID=Europe/Berlin:20230929T140000
DTSTAMP:20260422T002544
CREATED:20230802T160139Z
LAST-MODIFIED:20230919T131424Z
UID:10000108-1695992400-1695996000@www.gefeg.com
SUMMARY:Mit GEFEG.FX effizient Guidelines für den Geschäftsdatenaustausch entwickeln - Webinar
DESCRIPTION:Bei der Vorbereitung des Austauschs von Geschäftsnachrichten setzen die meisten Unternehmen auf internationale E-Business-Standards wie EDIFACT\, GS1 EANCOM®\, Odette\, VDA oder andere als Grundlage für eine effiziente Guideline-Entwicklung. Bei anderen Unternehmen kommen proprietäre Standards oder Flat-File-Formate zum Einsatz. \nUnabhängig vom E-Business-Standard bleibt das Ziel immer dasselbe: eine präzise\, fehlerfreie Spezifikation\, die die spezifischen Anforderungen ihres Unternehmens oder ihrer Organisation an den Austausch von Geschäftsnachrichten abbildet. Die Software GEFEG.FX verschafft Ihnen Zugriff auf internationale Standards und bietet umfangreiche und nützliche Funktionen\, um Guidelines effizient zu entwickeln. \nNehmen Sie an unserem Webinar teil und erfahren Sie\, wie Sie in GEFEG.FX effizient unternehmensspezifische Spezifikationen unter Wiederverwendung von klassischen B2B-Standards erstellen können. Für fortgeschrittene GEFEG.FX Anwender präsentieren wir Tipps und Tricks zu Funktionen wie Mehrsprachigkeit eines Guides oder Aktualisierung einer Spezifikation auf eine neue Version eines B2B Standards. \nWebinar-Themen „Mit GEFEG.FX effizient Guidelines für den Geschäftsdatenaustausch entwickeln“\n\nErstellen Sie mit GEFEG.FX standardkonforme Guidelines auf Basis von internationalen Standards\nGenerieren Sie mit wenigen Klicks eine Dokumentation Ihrer unternehmensspezifischen Anforderungen.\nReduzieren Sie mit dem Einsatz von GEFEG.FX Ihren Abstimmungsaufwand mit Ihren EDI Partnern und sparen Sie Zeit bei der Anbindung Ihrer Partner an Ihre EDI Systeme.\n\nHaben Sie Fragen zum Webinar und / oder Input zu weiteren Webinar-Themen? \nWer sollte teilnehmen?\nWir empfehlen das Webinar für Planer und Entwickler von Geschäftsdatenaustausch. \nWelche Kenntnisse sollten Sie mitbringen?\nGrundlegendes Verständnis des Geschäftsdatenaustauschs (EDI) wird vorausgesetzt. \nWie viel Zeit sollten Sie einplanen?\nPlanen Sie bitte rund 60 Minuten für das Webinar ein \n \n        \n    \n\n\n\n\n\n    \n    \n	\n		\n        Schade. Die Anmeldefrist ist abgelaufen. Schauen Sie doch einmal hier nach Alternativen.
URL:https://www.gefeg.com/event/mit-gefeg-fx-effizient-guidelines-fuer-den-geschaeftsdatenaustausch-entwickeln-webinar/
LOCATION:Online
CATEGORIES:Webinar
ATTACH;FMTTYPE=image/jpeg:https://www.gefeg.com/wp-content/uploads/2023/08/Effizient-Guidelines-fuer-den-Geschaeftsdatenaustausch-entwickeln-Webinar.jpg
END:VEVENT
END:VCALENDAR