BEGIN:VCALENDAR
VERSION:2.0
PRODID:-//GEFEG mbH - ECPv6.15.20//NONSGML v1.0//EN
CALSCALE:GREGORIAN
METHOD:PUBLISH
X-WR-CALNAME:GEFEG mbH
X-ORIGINAL-URL:https://www.gefeg.com
X-WR-CALDESC:Veranstaltungen für GEFEG mbH
REFRESH-INTERVAL;VALUE=DURATION:PT1H
X-Robots-Tag:noindex
X-PUBLISHED-TTL:PT1H
BEGIN:VTIMEZONE
TZID:Europe/Berlin
BEGIN:DAYLIGHT
TZOFFSETFROM:+0100
TZOFFSETTO:+0200
TZNAME:CEST
DTSTART:20250330T010000
END:DAYLIGHT
BEGIN:STANDARD
TZOFFSETFROM:+0200
TZOFFSETTO:+0100
TZNAME:CET
DTSTART:20251026T010000
END:STANDARD
BEGIN:DAYLIGHT
TZOFFSETFROM:+0100
TZOFFSETTO:+0200
TZNAME:CEST
DTSTART:20260329T010000
END:DAYLIGHT
BEGIN:STANDARD
TZOFFSETFROM:+0200
TZOFFSETTO:+0100
TZNAME:CET
DTSTART:20261025T010000
END:STANDARD
BEGIN:DAYLIGHT
TZOFFSETFROM:+0100
TZOFFSETTO:+0200
TZNAME:CEST
DTSTART:20270328T010000
END:DAYLIGHT
BEGIN:STANDARD
TZOFFSETFROM:+0200
TZOFFSETTO:+0100
TZNAME:CET
DTSTART:20271031T010000
END:STANDARD
END:VTIMEZONE
BEGIN:VEVENT
DTSTART;TZID=Europe/Berlin:20260610T150000
DTEND;TZID=Europe/Berlin:20260610T160000
DTSTAMP:20260422T011255
CREATED:20251128T091342Z
LAST-MODIFIED:20251205T075712Z
UID:10000113-1781103600-1781107200@www.gefeg.com
SUMMARY:Aktuelle ISO 20022-Spezifikation\, Migration und Updates - Ist Ihre Implementierung bereits nachhaltig dokumentiert? - Webinar
DESCRIPTION:ISO 20022 wird für Finanztransaktionsdaten verpflichtend\nBis Ende 2025 wird es für alle Teilnehmer mehr oder weniger obligatorisch sein\, den ISO 20022-Standard für den Austausch von Finanztransaktionsdaten zu verwenden. Wer seine Zahlungsdaten noch nicht migriert hat\, muss bis dahin aktiv werden\, damit seine Zahlungsinformationen weiterhin über das SWIFT-Netz übermittelt werden können. In den folgenden vier Jahren wird es weitere wichtige Termine geben\, wie zum Beispiel in den letzten Jahren\, als die europaweiten Zahlungssysteme TARGET2\, EURO1 und STEP1 auf ISO 20022 umgestellt werden mussten. \nKonzentration auf die Dokumentation von ISO 20022 Inhalten\nSind Sie gut vorbereitet? Und wenn ja\, ist Ihre ISO 20022-Implementierung nachhaltig genug dokumentiert\, um bei Versions-Upgrades einfach aktualisiert werden zu können? Oder planen Sie\, Ausnahmen und Erweiterungen von ISO 20022 im Rahmen der Migration in einer eigenen Spezifikation zu dokumentieren? \nDie ISO 20022 Standard Distribution der GEFEG.FX Software bietet die Grundlage für Projekte im Finanzsektor\, um Finanznachrichten anzupassen\, zu dokumentieren\, zu veröffentlichen\, zu implementieren und zu validieren. In GEFEG.FX haben Sie neben den aktuellen ISO 20022 UML-Modellen auch Zugriff auf frühere Versionen der ISO 20022 UML-Modelle. Darüber hinaus erleichtern angereicherte XML-Schemata und externe Codes zu den Elementen das Verständnis und die Planung Ihrer Implementierung. Selbstverständlich ist auch ein ISO 20022-Datenupdate-Service enthalten. \nThemen unseres Webinars Aktuelle ISO 20022-Spezifikation\, Migration und Updates – Ist Ihre Implementierung bereits nachhaltig dokumentiert?\nErfahren Sie in diesem Webinar\, wie Kunden \n\nEffizient leicht pflegbare Spezifikationen\, Guidelines auf der Basis von ISO 20022 mit GEFEG.FX entwickeln\, Dokumentation auf Knopfdruck erzeugen\nDatenharmonisierung mit GEFEG.FX durchführen\nDaten validieren mit dem GEFEG.Portal und Onboarding Prozesse optimieren\nAuf der Basis von ISO 20022 und anderen Standards API Spezifikationen mit GEFEG.FX erstellen und dokumentieren\n\nHaben Sie Fragen zum Webinar und / oder Input zu weiteren Webinar-Themen? \nWer sollte teilnehmen?\nTechnische und Business-orientierte Mitarbeiter von Unternehmen\, die ISO 20022 Migrationsprojekte organisieren oder durchführen \nWelche Kenntnisse sollten Sie mitbringen?\nInteresse an ISO 20022 und Finanzprozessen \nWie lange dauert das Webinar?\n50 – 60 Minuten \n \n        \n    \n\n\n\n\n\n\n\n\n    \n        \n                \n                     Bitte beachten Sie\, dass das Webinar in englischer Sprache gehalten wird. \n \n        \n    \n\n\n\n\n    \n        \n            \n                \n            \n        \n    \n\n\n\n    \n    \n	\n		\n        Schade. Die Anmeldefrist ist abgelaufen. Schauen Sie doch einmal hier nach Alternativen.
URL:https://www.gefeg.com/veranstaltung/iso-20022-dokumentation-und-pflege-ist-ihre-implementierung-nachhaltig-dokumentiert-webinar/
LOCATION:Online
CATEGORIES:Webinar
ATTACH;FMTTYPE=image/jpeg:https://www.gefeg.com/wp-content/uploads/2023/08/Webinar-ISO-20022-Dokumentation-und-Updates.jpg
END:VEVENT
END:VCALENDAR