BEGIN:VCALENDAR
VERSION:2.0
PRODID:-//GEFEG mbH - ECPv6.15.20//NONSGML v1.0//EN
CALSCALE:GREGORIAN
METHOD:PUBLISH
X-WR-CALNAME:GEFEG mbH
X-ORIGINAL-URL:https://www.gefeg.com
X-WR-CALDESC:Veranstaltungen für GEFEG mbH
REFRESH-INTERVAL;VALUE=DURATION:PT1H
X-Robots-Tag:noindex
X-PUBLISHED-TTL:PT1H
BEGIN:VTIMEZONE
TZID:Europe/Berlin
BEGIN:DAYLIGHT
TZOFFSETFROM:+0100
TZOFFSETTO:+0200
TZNAME:CEST
DTSTART:20240331T010000
END:DAYLIGHT
BEGIN:STANDARD
TZOFFSETFROM:+0200
TZOFFSETTO:+0100
TZNAME:CET
DTSTART:20241027T010000
END:STANDARD
BEGIN:DAYLIGHT
TZOFFSETFROM:+0100
TZOFFSETTO:+0200
TZNAME:CEST
DTSTART:20250330T010000
END:DAYLIGHT
BEGIN:STANDARD
TZOFFSETFROM:+0200
TZOFFSETTO:+0100
TZNAME:CET
DTSTART:20251026T010000
END:STANDARD
BEGIN:DAYLIGHT
TZOFFSETFROM:+0100
TZOFFSETTO:+0200
TZNAME:CEST
DTSTART:20260329T010000
END:DAYLIGHT
BEGIN:STANDARD
TZOFFSETFROM:+0200
TZOFFSETTO:+0100
TZNAME:CET
DTSTART:20261025T010000
END:STANDARD
END:VTIMEZONE
BEGIN:VEVENT
DTSTART;TZID=Europe/Berlin:20250224T090000
DTEND;TZID=Europe/Berlin:20250224T170000
DTSTAMP:20260421T135248
CREATED:20241112T135958Z
LAST-MODIFIED:20250115T133455Z
UID:10000308-1740387600-1740416400@www.gefeg.com
SUMMARY:XML-Schema Grundlagen für EDI - Training
DESCRIPTION:Einführung in die XML-Welt und Einsatz im elektronischen Datenaustausch (EDI)\nWarum ist es wichtig\, mehr über die Grundlagen von XML-Schemas für EDI zu erfahren? Als EDI-Spezialisten wollen wir Ihnen gern die Grundlagen von XML-Schemas aus der Perspektive des elektronischen Datenaustauschs und der damit verbundenen Prozesse näher bringen. Die Verwendung von XML-Schemas zur Definition von Strukturen und zur Beschreibung von Inhalten nimmt ständig zu. Ebenso wie die Verwendung für den Austausch von Geschäftsnachrichten und Dateninhalten mit EDI-Prozessen\, Webanwendungen oder für APIs. Unsere Software GEFEG.FX bietet umfangreiche Funktionen zur XML-Schema-Entwicklung und inhaltlichen Spezifikation von Schemas. \nIn unserem Training XML-Schema Grundlagen für EDI vermitteln wir Basiswissen und Grundkenntnisse über XML im Kontext der EDI-Aktivitäten von Unternehmen und Organisationen. Wir führen Sie in die technischen Grundlagen von XML-Dokumenten\, Elementen und Attributen und Schema-Sprachen ein\, bevor wir vier XML-Schema-Designprinzipien und deren Verwendung in der Praxis erklären. Darüber hinaus gehen wir auch auf weitere XML-Formate\, wie z.B. Schematron\, sowie die Implementierung von XML für EDI und XML-Standards\, wie z.B. ConnectSpec (OAGIS)\, UBL\, ZUGFeRD\, ein. \nThemen des Trainings XML-Schema Grundlagen für EDI\n\nWas ist XML: Eigenschaften und Zweck\, Standardisierung und Vielfalt\nTechnische Grundlagen von XML: Komponenten\, Aufbau\, Strukturvorgaben\nImplementierung von XML für EDI: Wichtige XML-Standards für EDI\nDatenmodellierung und XML\n\n  \nHaben Sie Fragen zum Webinar und / oder Input zu weiteren Webinar-Themen? \nWas wissen Sie nach dem Training?\nDie Teilnehmer haben Grundkenntnisse über die technischen Grundlagen von XML und wissen\, dass XML-Dokumente den Strukturvorgaben von XML-Schemas folgen müssen. Sie haben gelernt\, wie XML für den Datenaustausch eingesetzt wird und kennen wichtige XML-Standards. \nWer sollte teilnehmen?\nMitarbeiter von Fachabteilungen\, EDI-Projektgruppen\, IT- und EDI-Abteilungen sowie EDI- und eBusiness-Berater\, die Grundkenntnisse über XML Schema für EDI erwerben wollen. Für Mitarbeiter\, die mit GEFEG.FX Schema-Funktionen arbeiten wollen\, wenn die Einführung eines XML-Standards bevorsteht und für Umsteiger von EDIFACT auf XML\, die die technischen Grundlagen von XML Schema erlernen wollen. \nWelche Kenntnisse sollten Sie mitbringen?\nGrundkenntnisse von EDI-Prozessen sind von Vorteil \nWie lange dauert das Training?\nBitte planen Sie einen ganzen Tag für das Training ein. \nWann findet das Training statt?\n24. Februar 2025\, 9:00 – 17:00 Uhr \n \n        \n    \n\n\n\n\n\n    \n    \n	\n		\n        MELDEN SIE SICH JETZT AN.\n		\n	\n\n\n\n\n\n\n    \n        \n                \n                     Durch Klicken auf den Anmeldebutton werden Sie auf die GoToWebinar-Seite von LogMeIn\, Inc. weitergeleitet.
URL:https://www.gefeg.com/event/xml-schema-grundlagen-fuer-edi-training-5/
CATEGORIES:Online-Training
ATTACH;FMTTYPE=image/jpeg:https://www.gefeg.com/wp-content/uploads/2023/07/Training-XML-Schema-4-EDI-Basics.jpg
END:VEVENT
BEGIN:VEVENT
DTSTART;TZID=Europe/Berlin:20250225T090000
DTEND;TZID=Europe/Berlin:20250225T170000
DTSTAMP:20260421T135248
CREATED:20241112T141914Z
LAST-MODIFIED:20250218T101138Z
UID:10000309-1740474000-1740502800@www.gefeg.com
SUMMARY:XML-Schemas für EDI entwickeln mit GEFEG.FX Software und sofort den Pflegeaufwand reduzieren - Training
DESCRIPTION:XML-Schema Entwicklung für EDI mit GEFEG.FX\nZunehmend verwenden Unternehmen XML-Schema zur Entwicklung ihrer EDI-Spezifikationen. Die Nutzung klassischer EDI-Standards für den Datenaustausch wird somit durch XML Schema als weiteres Datenaustauschformat ergänzt. Der Schwerpunkt der XML-Schema-Entwicklung mit GEFEG.FX liegt eindeutig auf Schemas für Geschäftsdaten. Alternativ zur Entwicklung eigener\, unternehmensspezifischer XML-Schemas können Sie in GEFEG.FX etablierte XML-Standards nutzen\, diese zeitsparend über die Guideline-Technologie der Software an Ihre Anforderungen anpassen\, z.B. CEFACT XML\, GS1 XML\, connectSpec (bisher OAGIS) oder UBL\, und so Ihren zukünftigen Aktualisierungsaufwand drastisch reduzieren. \nIn dieser Schulung erhalten Anwender eine fundierte Einführung in die XML-Schema-Entwicklung mit GEFEG.FX. Der praktische Teil wird mit der GEFEG.FX Software durchgeführt. Als Einstieg werden die Grundlagen von XML Schema erläutert. Anschließend wird erklärt\, wie GEFEG.FX verwendet werden kann\, um eigene Schemas zu erstellen oder bestehende zu dokumentieren (z.B. basierend auf GS1 XML\, ISO 20022\, connectSpec (bisher OAGIS)\, ZUGFeRD). Die Teilnehmer erhalten eine Einführung in die umfassende Softwareunterstützung bei der Erstellung von XML-Schema-Spezifikationen\, um anschließend selbständig mit der Software arbeiten zu können. Anwender\, die sowohl klassische EDI-Standards als auch XML-Schemas verwenden\, können die Mapping-Funktionen in GEFEG.FX für die Integration unterschiedlicher Datenaustauschformate verwenden. \nThemen des Trainings XML-Schemas für EDI mit GEFEG.FX Software entwickeln und sofort den Pflegeaufwand reduzieren\n\nDer XML Schema Editor in GEFEG.FX\nEntwickeln eines XML-Schemas anhand eines Papierformulars\nSchema-Designprinzipien\nSchema-Funktionen in GEFEG.FX\nArbeiten mit XML-Schema-Guides gemäß GEFEG.FX Guide-Technologie\nVarianten im XML-Schema-Guide\nMenschenlesbare Dokumentation erstellen\nImporte und Export von XML Schemas\nValidierung: Testen von XML-Instanzen gegen ein Schema\, Validierung von XML Schema-Varianten\nMapping: Mapping-Projekte mit Schemas und EDI-Guide\, Mapping-Templates\n\n  \nHaben Sie Fragen zum Webinar und / oder Input zu weiteren Webinar-Themen? \nWas wissen Sie nach dem Training?\nSie wissen\, wie Sie GEFEG.FX zur Schema-Entwicklung nutzen können\, um eigene Schemas zu importieren oder bestehende Schemas zu spezifizieren (z.B. CEFACT XML\, GS1 XML\, OAGIS\, UBL)\, um diese dann zu dokumentieren. Sie haben gelernt\, wie Sie XML-Instanzen gegen XML-Schemas validieren und welche Vergleichsfunktionen Sie verwenden können. Außerdem kennen Sie das Mapping-Prinzip von GEFEG.FX und können es anwenden. \nWer sollte teilnehmen?\n\nFachleute für Datenaustausch\, die XML-Schemas für die Spezifikation von Geschäftsdaten und Datenaustauschverfahren verwenden wollen.\nAnwender\, die bestehende XML-Schemas wiederverwenden und die unternehmens- oder organisationsspezifische Verwendung dokumentieren und dadurch ihren zukünftigen Aktualisierungsaufwand drastisch reduzieren wollen.\n\nWelche Kenntnisse sollten Sie mitbringen?\nXML-Kenntnisse sind wünschenswert bzw. Teilnahme am Kurs XML-Schema Grundlagen \nWann findet das Training statt?\n25. Februar 2025\, 9:00 – 12:00 Uhr & 14:00 – 17:00\n26. Februar 2025\, 9:00 – 12:00 Uhr & 14:00 – 17:00 \n \n        \n    \n\n\n\n\n\n    \n    \n	\n		\n        MELDEN SIE SICH JETZT AN.\n		\n	\n\n\n\n\n\n\n    \n        \n                \n                     Durch Klicken auf den Anmeldebutton werden Sie auf die GoToWebinar-Seite von LogMeIn\, Inc. weitergeleitet.
URL:https://www.gefeg.com/event/xml-schemas-fuer-edi-entwickeln-mit-gefeg-fx-software-und-sofort-den-pflegeaufwand-reduzieren-training-4/2025-02-25/
CATEGORIES:Online-Training
ATTACH;FMTTYPE=image/jpeg:https://www.gefeg.com/wp-content/uploads/2023/07/Training-XML-Schema-Entwicklung-fuer-den-Datenaustausch.jpg
END:VEVENT
BEGIN:VEVENT
DTSTART;TZID=Europe/Berlin:20250226T090000
DTEND;TZID=Europe/Berlin:20250226T170000
DTSTAMP:20260421T135248
CREATED:20241112T141914Z
LAST-MODIFIED:20250218T101138Z
UID:10000310-1740560400-1740589200@www.gefeg.com
SUMMARY:XML-Schemas für EDI entwickeln mit GEFEG.FX Software und sofort den Pflegeaufwand reduzieren - Training
DESCRIPTION:XML-Schema Entwicklung für EDI mit GEFEG.FX\nZunehmend verwenden Unternehmen XML-Schema zur Entwicklung ihrer EDI-Spezifikationen. Die Nutzung klassischer EDI-Standards für den Datenaustausch wird somit durch XML Schema als weiteres Datenaustauschformat ergänzt. Der Schwerpunkt der XML-Schema-Entwicklung mit GEFEG.FX liegt eindeutig auf Schemas für Geschäftsdaten. Alternativ zur Entwicklung eigener\, unternehmensspezifischer XML-Schemas können Sie in GEFEG.FX etablierte XML-Standards nutzen\, diese zeitsparend über die Guideline-Technologie der Software an Ihre Anforderungen anpassen\, z.B. CEFACT XML\, GS1 XML\, connectSpec (bisher OAGIS) oder UBL\, und so Ihren zukünftigen Aktualisierungsaufwand drastisch reduzieren. \nIn dieser Schulung erhalten Anwender eine fundierte Einführung in die XML-Schema-Entwicklung mit GEFEG.FX. Der praktische Teil wird mit der GEFEG.FX Software durchgeführt. Als Einstieg werden die Grundlagen von XML Schema erläutert. Anschließend wird erklärt\, wie GEFEG.FX verwendet werden kann\, um eigene Schemas zu erstellen oder bestehende zu dokumentieren (z.B. basierend auf GS1 XML\, ISO 20022\, connectSpec (bisher OAGIS)\, ZUGFeRD). Die Teilnehmer erhalten eine Einführung in die umfassende Softwareunterstützung bei der Erstellung von XML-Schema-Spezifikationen\, um anschließend selbständig mit der Software arbeiten zu können. Anwender\, die sowohl klassische EDI-Standards als auch XML-Schemas verwenden\, können die Mapping-Funktionen in GEFEG.FX für die Integration unterschiedlicher Datenaustauschformate verwenden. \nThemen des Trainings XML-Schemas für EDI mit GEFEG.FX Software entwickeln und sofort den Pflegeaufwand reduzieren\n\nDer XML Schema Editor in GEFEG.FX\nEntwickeln eines XML-Schemas anhand eines Papierformulars\nSchema-Designprinzipien\nSchema-Funktionen in GEFEG.FX\nArbeiten mit XML-Schema-Guides gemäß GEFEG.FX Guide-Technologie\nVarianten im XML-Schema-Guide\nMenschenlesbare Dokumentation erstellen\nImporte und Export von XML Schemas\nValidierung: Testen von XML-Instanzen gegen ein Schema\, Validierung von XML Schema-Varianten\nMapping: Mapping-Projekte mit Schemas und EDI-Guide\, Mapping-Templates\n\n  \nHaben Sie Fragen zum Webinar und / oder Input zu weiteren Webinar-Themen? \nWas wissen Sie nach dem Training?\nSie wissen\, wie Sie GEFEG.FX zur Schema-Entwicklung nutzen können\, um eigene Schemas zu importieren oder bestehende Schemas zu spezifizieren (z.B. CEFACT XML\, GS1 XML\, OAGIS\, UBL)\, um diese dann zu dokumentieren. Sie haben gelernt\, wie Sie XML-Instanzen gegen XML-Schemas validieren und welche Vergleichsfunktionen Sie verwenden können. Außerdem kennen Sie das Mapping-Prinzip von GEFEG.FX und können es anwenden. \nWer sollte teilnehmen?\n\nFachleute für Datenaustausch\, die XML-Schemas für die Spezifikation von Geschäftsdaten und Datenaustauschverfahren verwenden wollen.\nAnwender\, die bestehende XML-Schemas wiederverwenden und die unternehmens- oder organisationsspezifische Verwendung dokumentieren und dadurch ihren zukünftigen Aktualisierungsaufwand drastisch reduzieren wollen.\n\nWelche Kenntnisse sollten Sie mitbringen?\nXML-Kenntnisse sind wünschenswert bzw. Teilnahme am Kurs XML-Schema Grundlagen \nWann findet das Training statt?\n25. Februar 2025\, 9:00 – 12:00 Uhr & 14:00 – 17:00\n26. Februar 2025\, 9:00 – 12:00 Uhr & 14:00 – 17:00 \n \n        \n    \n\n\n\n\n\n    \n    \n	\n		\n        MELDEN SIE SICH JETZT AN.\n		\n	\n\n\n\n\n\n\n    \n        \n                \n                     Durch Klicken auf den Anmeldebutton werden Sie auf die GoToWebinar-Seite von LogMeIn\, Inc. weitergeleitet.
URL:https://www.gefeg.com/event/xml-schemas-fuer-edi-entwickeln-mit-gefeg-fx-software-und-sofort-den-pflegeaufwand-reduzieren-training-4/2025-02-26/
CATEGORIES:Online-Training
ATTACH;FMTTYPE=image/jpeg:https://www.gefeg.com/wp-content/uploads/2023/07/Training-XML-Schema-Entwicklung-fuer-den-Datenaustausch.jpg
END:VEVENT
END:VCALENDAR