BEGIN:VCALENDAR
VERSION:2.0
PRODID:-//GEFEG mbH - ECPv6.15.20//NONSGML v1.0//EN
CALSCALE:GREGORIAN
METHOD:PUBLISH
X-ORIGINAL-URL:https://www.gefeg.com
X-WR-CALDESC:Veranstaltungen für GEFEG mbH
REFRESH-INTERVAL;VALUE=DURATION:PT1H
X-Robots-Tag:noindex
X-PUBLISHED-TTL:PT1H
BEGIN:VTIMEZONE
TZID:Europe/Berlin
BEGIN:DAYLIGHT
TZOFFSETFROM:+0100
TZOFFSETTO:+0200
TZNAME:CEST
DTSTART:20240331T010000
END:DAYLIGHT
BEGIN:STANDARD
TZOFFSETFROM:+0200
TZOFFSETTO:+0100
TZNAME:CET
DTSTART:20241027T010000
END:STANDARD
BEGIN:DAYLIGHT
TZOFFSETFROM:+0100
TZOFFSETTO:+0200
TZNAME:CEST
DTSTART:20250330T010000
END:DAYLIGHT
BEGIN:STANDARD
TZOFFSETFROM:+0200
TZOFFSETTO:+0100
TZNAME:CET
DTSTART:20251026T010000
END:STANDARD
BEGIN:DAYLIGHT
TZOFFSETFROM:+0100
TZOFFSETTO:+0200
TZNAME:CEST
DTSTART:20260329T010000
END:DAYLIGHT
BEGIN:STANDARD
TZOFFSETFROM:+0200
TZOFFSETTO:+0100
TZNAME:CET
DTSTART:20261025T010000
END:STANDARD
END:VTIMEZONE
BEGIN:VEVENT
DTSTART;TZID=Europe/Berlin:20250505T150000
DTEND;TZID=Europe/Berlin:20250505T160000
DTSTAMP:20260421T193601
CREATED:20250107T112832Z
LAST-MODIFIED:20250107T130303Z
UID:10000348-1746457200-1746460800@www.gefeg.com
SUMMARY:UN/CEFACT Multimodal Transport Reference Data Model - Wiederverwendung und Spezifizierung gebrauchsfertiger Bausteine für Ihr Datenmodell - Webinar
DESCRIPTION:Die UN/CEFACT-Referenzdatenmodelle verbinden zwei zentrale Bereiche der internationalen Lieferkette: Transport und Logistik sowie Lieferkette und Beschaffung. Sie bieten einen einheitlichen Rahmen\, der die Datenmodelle dieser beiden Bereiche konsolidiert. Für die Nutzer ist es entscheidend\, dass dieser Rahmen alle Überschneidungen zwischen den in unterschiedlichen Kontexten genutzten Konzepten berücksichtigt. Aus technischer Sicht stellen die Referenzdatenmodelle ein einzigartiges\, semantisches Werkzeug für den elektronischen Datenaustausch dar. Sie bieten fertige Bausteine\, die sowohl wiederverwendet als auch weiter spezifiziert werden können. \nDigitale Dokumente sind im globalen Warenverkehr längst unverzichtbar\, begleiten jede Lieferung und gewinnen zunehmend an Bedeutung. Die Transportbranche muss sich darauf einstellen\, dass Daten als digitale Begleiter und der damit verbundene Datenaustausch in den kommenden Jahren weiter zunehmen. Auch die öffentliche Hand plant\, den bisherigen papierbasierten Datenaustausch zwischen den Akteuren der Logistikbranche durch elektronische Daten zu ergänzen. Damit steigen nicht nur das Volumen des Datentransfers\, sondern auch die Anforderungen an die Verarbeitung einer Vielzahl digitaler Standards. Es ist bekannt\, dass die digitale Kommunikation in der Transport- und Logistikbranche nicht auf wenige B2B- oder B2G-Standards beschränkt ist\, wie es beispielsweise in der Automobil- oder Konsumgüterindustrie der Fall ist. \nPraktische Anpassung und Wiederverwendung von UN/CEFACT-Referenzdatenmodellen (RDMs)\nDie Referenzdatenmodelle basieren auf der gleichen Basis von Komponenten der UN Core Component Library (UN CCL). Diese Komponenten sind miteinander verknüpft\, werden aber aufgrund des unterschiedlichen Kontexts und der unterschiedlichen Semantik der internationalen Verkaufs- und Transportverträge\, des Informationsaustauschs und der Geschäftspraktiken unterschiedlich angewendet. \nDas UN/CEFACT Multimodal Transport Reference Data Model (MMT RDM) bietet eine wichtige Grundlage zur Unterstützung der Datenharmonisierung für alle transportbezogenen Dokumente und unterstützt im nächsten Schritt auch Ihre Implementierungen. Das multimodale Transportmodell umfasst harmonisierte\, semantische Strukturen\, die alle im Transport- und Logistiksektor verwendeten Daten für den elektronischen Datenaustausch abdecken. \nIn unserem Webinar erfahren Sie mehr über die verschiedenen Komponenten dieses Modells sowie über das Konzept\, die Methodik und die Vorteile der Datenharmonisierung\, die sich aus der Verwendung dieses Modells ergeben. Nicht zuletzt aufgrund der zunehmenden Zahl von eBusiness-Standards entscheiden sich EDI-Verantwortliche zunehmend für einen modellbasierten Ansatz. Das bedeutet\, dass Sie zunächst die Daten eines Geschäftsdokuments in einem abstrakten\, syntaxneutralen Modell darstellen. Auf der Grundlage dieses Modells werden dann die konkreten Datenaustauschformate geplant. \nThemen unseres Webinars\nIn diesem Webinar erfahren Sie\, wie Sie … \n\ndie GEFEG.FX UN/CEFACT- Referenzdatenmodelle für die Datenharmonisierung wiederverwenden und einen maßgeschneiderten\, aber interoperablen Datenaustausch mit Geschäftspartnern in der grenzüberschreitenden Lieferkette in GEFEG.FX entwickeln können\nIhre Nutzung der Referenzdatenmodelle kontextualisieren\, einschränken und erweitern können\nKunden-/Benutzer-spezifische Datenanforderungen und geschäftlichen Kontext einbeziehen\nes für die Implementierung verwenden\, indem Sie schnell und einfach Dokumentationen aus Ihren Daten generieren\, einschließlich XSD-Exporte\, und diese in Ihrer Implementierungsumgebung bereitstellen\nXML-Schemata für die Implementierung des Datenaustauschs gemäß den UNCEFACT Core Component Technical Specifications (CCTS) Naming and Design Rules generieren\nmenschenlesbare Dokumentation mit Vorlagen erstellen und generieren\n\n  \nHaben Sie Fragen zum Webinar und / oder Input zu weiteren Webinar-Themen? \nWer sollte teilnehmen?\nPersonen\, die im Bereich der internationalen Lieferkette tätig sind und den Datenaustausch mit Handelspartnern\, Transport- und Logistikfachleuten und grenzüberschreitenden Behörden auf der Grundlage von UNCEFACT-Referenzdatenmodellen planen und umsetzen müssen\, profitieren von den einzigartigen Anpassungsfunktionen des GEFEG.FX-Tools. \nWie lange dauert das Webinar?\nPlanen Sie ca. 50 – 60 Minuten für das Webinar ein. \n \n        \n    \n\n\n\n\n    \n        \n                \n                     Bitte beachten Sie\, dass das Webinar in englischer Sprache gehalten wird. \n \n        \n    \n\n\n\n\n\n    \n    \n	\n		\n        MELDEN SIE SICH JETZT AN.\n		\n	\n\n\n\n\n\n\n    \n        \n                \n                     Wenn Sie auf die Registrierungsschaltfläche klicken\, werden Sie auf die LogMeIn\, Inc. GoToWebinar-Seite weitergeleitet\, auf der Sie sich anmelden und wichtige Informationen zu dieser Veranstaltung erhalten.
URL:https://www.gefeg.com/event/un-cefact-multimodal-transport-reference-data-model-wiederverwendung-und-spezifizierung-gebrauchsfertiger-bausteine-fuer-ihr-datenmodell-webinar/
CATEGORIES:Webinar
ATTACH;FMTTYPE=image/jpeg:https://www.gefeg.com/wp-content/uploads/2023/07/Webinar-Daten-harmonisieren-im-Transport-Sektor.jpg
END:VEVENT
BEGIN:VEVENT
DTSTART;TZID=Europe/Berlin:20250513T090000
DTEND;TZID=Europe/Berlin:20250513T163000
DTSTAMP:20260421T193602
CREATED:20241113T144135Z
LAST-MODIFIED:20250115T132843Z
UID:10000326-1747126800-1747153800@www.gefeg.com
SUMMARY:Einführung in den EDI-Standard UN/EDIFACT - Training
DESCRIPTION:Grundlagen von EDIFACT\nIn diesem Kurs lernen Sie am Beispiel von UN/EDIFACT (United Nations Electronic Data Interchange for Administration\, Commerce and Transport) in einem Tag die Prinzipien und den Aufbau von EDI-Standards kennen. \nUN/EDIFACT ist ein EDI-Standard\, der Geschäftsdokumente in einer einheitlichen Darstellung beschreibt und dadurch einheitliche Formate festlegt. Diese Formate ermöglichen den automatisierten Austausch von Bestellungen\, Rechnungen oder Lieferscheinen zwischen den Computersystemen von Unternehmen und zunehmend auch von Behörden. UN/EDIFACT wird von internationalen Experten entwickelt und gepflegt\, ist branchenunabhängig und wird weit verbreitet eingesetzt. Daneben gibt es weitere EDI-Standards\, die auf UN/EDIFACT aufbauen und üblicherweise in bestimmten Branchen verwendet werden\, wie zum Beispiel GS1 EANCOM® als Standard der Konsumgüterindustrie. \nIn diesem Kurs erhalten Sie einen Überblick über die Bedeutung\, die Anwendung sowie die Vor- und Nachteile von EDI-Standards. Praktische Übungen helfen Ihnen dabei\, die Struktur des Standards besser zu verstehen. \nSchulungsthemen von Einführung in den EDI-Standard UN/EDIFACT\n\nWarum UN/EDIFACT?\nEinführung in die EDIFACT-Syntax\nDie hierarchischen Ebenen des Standards\nStruktur und Attribute des Standards\nUmsetzung einer Bestellung in eine EDIFACT-ORDERS\nÜbungen\n\n  \nHaben Sie Fragen zum Webinar und / oder Input zu weiteren Webinar-Themen? \nWas wissen Sie nach dem Training?\nSie haben mit einer praktischen Übung den Aufbau einer EDIFACT-Nachricht kennengelernt\, sodass Sie auch andere EDI-Nachrichten leichter verstehen werden. Außerdem haben Sie Informationen über die Vor- und Nachteile von EDI-Standards erhalten und wissen\, welche weiteren EDI-Standards auf EDIFACT basieren. \nWer sollte teilnehmen?\nNehmen Sie an diesem Kurs teil\, wenn Sie Mitglied einer EDI-Projektgruppe\, einer IT- oder EDI-Abteilung sind\, oder wenn Sie als EDI- und eBusiness-Berater tätig sind und grundlegende EDIFACT-Kenntnisse ein wichtiger Bestandteil Ihrer Arbeit sind. \nWelche Kenntnisse sollten Sie mitbringen?\nAllgemeine Kenntnisse von Datenstrukturen sind empfehlenswert. \nWie lange dauert das Training?\nBitte planen Sie einen ganzen Tag für das Training ein. \nWann findet das Training statt?\n13. Mai 2025\, 9:00 – 12:00 und 14:00 – 16:30 Uhr \n \n        \n    \n\n\n\n\n\n    \n    \n	\n		\n        MELDEN SIE SICH JETZT AN.\n		\n	\n\n\n\n\n\n\n    \n        \n                \n                     Durch Klicken auf den Anmeldebutton werden Sie auf die GoToWebinar-Seite von LogMeIn\, Inc. weitergeleitet.
URL:https://www.gefeg.com/event/einfuehrung-in-den-edi-standard-un-edifact-2/
CATEGORIES:Online-Training
ATTACH;FMTTYPE=image/jpeg:https://www.gefeg.com/wp-content/uploads/2024/03/Training-Intro-EDIFACT-Basics-1280x720-1.jpg
END:VEVENT
BEGIN:VEVENT
DTSTART;TZID=Europe/Berlin:20250519T150000
DTEND;TZID=Europe/Berlin:20250519T160000
DTSTAMP:20260421T193602
CREATED:20241119T103236Z
LAST-MODIFIED:20250115T133146Z
UID:10000332-1747666800-1747670400@www.gefeg.com
SUMMARY:JSON-Schema mit GEFEG.FX verwenden - Wie geht das? - Webinar
DESCRIPTION:In diesem Webinar erfahren Sie mehr über die Entwicklung von JSON-Schemas mit GEFEG.FX. Darüber hinaus erhalten Sie einen Einblick in die verschiedenen Funktionen\, welche Ihnen die Entwicklung\, Wartung und Implementierung von JSON Schema in ihr eigenes IT-System vereinfachen. \nAber was genau ist JSON Schema und wie kann es den Datenaustausch zwischen Geschäftspartnern vereinfachen? JSON Schema ist ein mächtiges Werkzeug\, das zur Validierung von JSON-Files eingesetzt wird. Es stellt sicher\, dass alle ein- und ausgehenden JSON-Dateien die technischen und prozessbezogenen Anforderungen erfüllen. Mit diesen Vorteilen dient JSON-Schema als zentrale Validierungsfunktion für jede Datenschnittstelle und sichert eine hohe Datenqualität beim Austausch mit externen Partnern. \nMit unserem JSON-Schema-Editor können Sie solche Schemas erstellen. Der Editor stellt eine benutzerfreundliche Entwicklungs- und Testumgebung zur Verfügung. Als einzige Lösung auf dem Markt verbindet er zudem die Schema-Entwicklung mit internationalen Standards. Auf diese Weise lassen sich die bereits etablierten Datenstrukturen für den Datenaustausch mit einem geringen Arbeitsaufwand in die JSON-Schema-Dateien interagieren und pflegen. So verbindet GEFEG.FX das Beste aus zwei Welten – die technischen Vorzüge von JSON-Schema mit den Business-Rules aus den EDI-Standards. \nWir werden zeigen\, wie diese beiden Welten effektiv integriert werden können\, und präsentieren gleichzeitig den JSON-Editor von GEFEG.FX. Melden Sie sich noch heute an und nehmen Sie an unserem kostenlosen Webinar teil. Wir freuen uns darauf\, Sie begrüßen zu dürfen und gemeinsam die Welt von JSON zu erkunden! \nThemen des Webinars JSON-Schema mit GEFEG.FX verwenden – Wie geht das?\n\nWas ist JSON-Schema und warum wird es verwendet?\nWie erstellen Sie Ihr eigenes JSON-Schema in GEFEG.FX von Grund auf?\nWie nutzen Sie importierte Datenstrukturen und EDI-Standards als Basis für Ihre Entwicklung?\nWie lassen sich die JSON-Schema-Dateien direkt in Ihre API-Schnittstellen integrieren?\n\n  \nHaben Sie Fragen zum Webinar und / oder Input zu weiteren Webinar-Themen? \nWer sollte teilnehmen?\nAls IT- und Datenaustauschspezialist würden Sie gern Ihre Expertise im Bereich JSON und APIs erweitern? Denken Sie darüber nach\, Ihre traditionellen EDI-Aktivitäten durch diese neuen Technologien ergänzen? Oder planen Sie\, JSON und APIs basierend auf bestehenden Spezifikationen zu entwickeln? Dann sind sie bei unserem Webinar genau richtig. \nWelche Kenntnisse sollten Sie mitbringen?\nKeine Kenntnisse über JSON oder JSON-Schema erforderlich \nWie lange dauert das Webinar?\nPlanen Sie ca. 50 – 60 Minuten für das Webinar ein. \n \n        \n    \n\n\n\n\n    \n        \n                \n                     Bitte beachten Sie\, dass das Webinar in englischer Sprache gehalten wird. \n \n        \n    \n\n\n\n\n\n    \n    \n	\n		\n        MELDEN SIE SICH JETZT AN.\n		\n	\n\n\n\n\n\n\n    \n        \n                \n                     Wenn Sie auf die Registrierungsschaltfläche klicken\, werden Sie auf die LogMeIn\, Inc. GoToWebinar-Seite weitergeleitet\, auf der Sie sich anmelden und wichtige Informationen zu dieser Veranstaltung erhalten.
URL:https://www.gefeg.com/event/json-schema-mit-gefeg-fx-verwenden-wie-geht-das-webinar-2/
CATEGORIES:Webinar
ATTACH;FMTTYPE=image/jpeg:https://www.gefeg.com/wp-content/uploads/2024/02/Webinar-JSON-Intro-3840x1220-1.jpg
END:VEVENT
BEGIN:VEVENT
DTSTART;TZID=Europe/Berlin:20250528T150000
DTEND;TZID=Europe/Berlin:20250528T160000
DTSTAMP:20260421T193602
CREATED:20241119T105058Z
LAST-MODIFIED:20250407T105532Z
UID:10000333-1748444400-1748448000@www.gefeg.com
SUMMARY:Jetzt APIs mit GEFEG.FX planen und entwickeln - Webinar
DESCRIPTION:Application Programming Interfaces\, oder kurz APIs\, erfreuen sich nicht nur branchenübergreifend\, sondern auch bereichsübergreifend großer Nachfrage. EDI- und e-Business Spezialisten diskutieren immer wieder darüber\, welche Rolle APIs beim Austausch von Geschäftsnachrichten spielen können und welche Vorteile der Einsatz von APIs bringt. Dabei sollte berücksichtigt werden\, dass sich der Datenaustausch über WebAPIs in vielerlei Hinsicht vom klassischen EDI unterscheidet: Bei der Entwicklung von APIs steht der ressourcenbasierte und serviceorientierte Datenaustausch im Vordergrund. Während bisher die Digitalisierung von Papierdokumenten im Mittelpunkt der EDI-Aktivitäten eines Unternehmens stand\, geht der Einsatz von API weit darüber hinaus und eröffnet neue Möglichkeiten. \nWie unterstützt GEFEG.FX Anwender dabei\, APIs zu planen und zu entwickeln? Wie gehen Sie bei der Entwicklung Ihrer eigenen APIs in GEFEG.FX vor? \nOpenAPI – Ein Spezifikationsstandard für APIs\nGEFEG.FX unterstützt die Entwicklung von WebAPIs mit OpenAPI 3. Warum OpenAPI 3? Die Verwendung von Standards als Entwicklungs- und Planungsgrundlage für den Datenaustausch zwischen Organisationen und Unternehmen ist eine wichtige Säule für die Produkte und Leistungen von GEFEG. Durch die Verwendung von Standards ergeben sich Rationalisierungseffekte und Interoperabilität von Anwendungen. Anwender von internationalen Standards (beispielsweise GS1 XML\, ISO20022 XML) profitieren vom Wissen und Know-how der Prozess- und Datenspezialisten\, die über Jahre hinweg an der Entwicklung mitgewirkt haben. Auch bei der Entwicklung von APIs setzen wir auf Standards: Der Spezifikationsstandard OpenAPI wird von vielen Fachleuten (u.a. Google\, IBM\, SAP\, Microsoft) unterstützt und legt den Schwerpunkt auf die Standardisierung der Spezifikation einer API. \nAPIs aus firmenspezifischen Guides mit GEFEG.FX erstellen\nErstellen Sie in GEFEG.FX eine API von Grund auf neu oder aber nutzen Sie bestehende GEFEG.FX Guides als Basis für eine neue API. Lernen Sie in diesem Webinar technische Schritte zur Umwandlung eines GEFEG.FX-Schemas in eine API kennen und wandeln Sie mit wenigen Klicks Ihre unternehmensspezifischen Schemas und Datenmodelle in APIs um – inklusive der Wiederverwendung von Strukturen\, Codes\, Constraints\, Definitionen und Namen. Bei Bedarf können Sie die mit dem GEFEG.FX-API-Editor erstellte neue API im JSON- und YAML-Format ausgeben. \nWir zeigen Ihnen\, wie es geht und besprechen auch praktische Vorgehensweisen zur Erstellung einer API. Beispielsweise wird erörtert\, warum eine Geschäftsnachricht nicht vollständig in eine API umgewandelt werden sollte. \nThemen des Webinars „Jetzt APIs mit GEFEG.FX planen und entwickeln“\nRegistrieren Sie sich für unser Webinar\, um … \n\neine kurze Einführung in die Thematik der APIs zu erhalten\nwichtige Funktionen des GEFEG.FX-API-Editors kennen zu lernen\nmehr über die praktische Vorgehensweise bei der Erstellung einer API zu erfahren und die Live-Erstellung einer API aus einem GEFEG.FX-Schema zu begleiten.\n\n. \n  \nHaben Sie Fragen zum Webinar und / oder Input zu weiteren Webinar-Themen? \nWer sollte teilnehmen?\nSind Sie als IT- und EDI-Spezialist neu im Thema APIs und wollen Ihre „klassischen“ EDI-Aktivitäten mit APIs erweitern? Sie wollen Ihre vorhandenen Guidelines wiederverwenden und in APIs umwandeln? Dann sind sie bei unserem Webinar genau richtig. \nWelche Kenntnisse sollten Sie mitbringen?\nAllgemeine Kenntnisse über GEFEG.FX Schemas und Datenmodelle sind wünschenswert. Vorkenntnisse im API Umfeld sind keine Voraussetzung. \nWie lange dauert das Webinar?\nPlanen Sie ca. 50 – 60 Minuten für das Webinar ein. \n \n        \n    \n\n\n\n\n    \n        \n                \n                     Bitte beachten Sie\, dass das Webinar in englischer Sprache gehalten wird. \n \n        \n    \n\n\n\n\n\n    \n    \n	\n		\n        MELDEN SIE SICH JETZT AN.\n		\n	\n\n\n\n\n\n\n    \n        \n                \n                     Wenn Sie auf die Registrierungsschaltfläche klicken\, werden Sie auf die LogMeIn\, Inc. GoToWebinar-Seite weitergeleitet\, auf der Sie sich anmelden und wichtige Informationen zu dieser Veranstaltung erhalten.
URL:https://www.gefeg.com/event/jetzt-apis-mit-gefeg-fx-planen-und-entwickeln-webinar-3/
CATEGORIES:Webinar
ATTACH;FMTTYPE=image/jpeg:https://www.gefeg.com/wp-content/uploads/2023/08/Webinar-Jetzt-APIs-mit-GEFEG.FX-planen.jpg
END:VEVENT
END:VCALENDAR