BEGIN:VCALENDAR
VERSION:2.0
PRODID:-//GEFEG mbH - ECPv6.15.20//NONSGML v1.0//EN
CALSCALE:GREGORIAN
METHOD:PUBLISH
X-WR-CALNAME:GEFEG mbH
X-ORIGINAL-URL:https://www.gefeg.com
X-WR-CALDESC:Veranstaltungen für GEFEG mbH
REFRESH-INTERVAL;VALUE=DURATION:PT1H
X-Robots-Tag:noindex
X-PUBLISHED-TTL:PT1H
BEGIN:VTIMEZONE
TZID:Europe/Berlin
BEGIN:DAYLIGHT
TZOFFSETFROM:+0100
TZOFFSETTO:+0200
TZNAME:CEST
DTSTART:20240331T010000
END:DAYLIGHT
BEGIN:STANDARD
TZOFFSETFROM:+0200
TZOFFSETTO:+0100
TZNAME:CET
DTSTART:20241027T010000
END:STANDARD
BEGIN:DAYLIGHT
TZOFFSETFROM:+0100
TZOFFSETTO:+0200
TZNAME:CEST
DTSTART:20250330T010000
END:DAYLIGHT
BEGIN:STANDARD
TZOFFSETFROM:+0200
TZOFFSETTO:+0100
TZNAME:CET
DTSTART:20251026T010000
END:STANDARD
BEGIN:DAYLIGHT
TZOFFSETFROM:+0100
TZOFFSETTO:+0200
TZNAME:CEST
DTSTART:20260329T010000
END:DAYLIGHT
BEGIN:STANDARD
TZOFFSETFROM:+0200
TZOFFSETTO:+0100
TZNAME:CET
DTSTART:20261025T010000
END:STANDARD
END:VTIMEZONE
BEGIN:VEVENT
DTSTART;TZID=Europe/Berlin:20250617T090000
DTEND;TZID=Europe/Berlin:20250617T170000
DTSTAMP:20260421T203227
CREATED:20241119T151651Z
LAST-MODIFIED:20250121T143009Z
UID:10000334-1750150800-1750179600@www.gefeg.com
SUMMARY:JSON-Essentials für Datenaustausch-Profis - Training
DESCRIPTION:Einführung in die Welt von JSON für den Datenaustausch\nJSON (JavaScript Object Notation) und JSON Schema sind wichtige Werkzeuge für den Datenaustausch und die Validierung von Datenstrukturen im modernen Web. Diese Schulung vermittelt Ihnen einen umfassenden Überblick\, wie JSON und JSON Schema zusammenhängen\, wie sie aufgebaut sind und in welchen Szenarien sie verwendet werden\, insbesondere im API Kontext. Die beiden Formate JSON Schema und JSON sind als Einheit zu verstehen – das JSON Schema definiert die Struktur zur Validierung und Dokumentation von JSON-Dateien. \nJSON ist ein einfach zu verstehendes Datenformat und wird weltweit für den Datenaustausch im Internet eingesetzt. Dank seiner Flexibilität und Benutzerfreundlichkeit ist es besonders beliebt. In dieser Schulung lernen Sie die Grundlagen von JSON kennen. Erfahren Sie auch\, wie Sie JSON Schema nutzen\, um Daten effizient zu validieren und zu strukturieren. Zusätzlich zeigen wir Ihnen\, wie Sie JSON und JSON Schema optimal in APIs (Application Programming Interfaces) integrieren können. \nHauptthemen des Trainings JSON-Essentials für Datenaustausch-Profis\n\nGrundlagen von JSON und JSON Schema für den Datenaustausch\nAufbau und Syntax von JSON-Dokumenten\nEinführung in JSON-Schema: Struktur\, Definitionen und Validierungsregeln\nVergleich mit anderen Datenformaten und -Standards wie XML\n\n  \nHaben Sie Fragen zum Webinar und / oder Input zu weiteren Webinar-Themen? \nWas werden Sie nach dem Training wissen?\nSie sind mit den grundlegenden Konzepten und Formaten von JSON und JSON Schema vertraut. Sie verstehen die spezifischen Merkmale und Nutzungsmöglichkeiten von JSON und JSON Schema in APIs und wissen\, wie Sie diese für einen effizienten Datenaustausch nutzen können. \nFür wen ist das Training gedacht?\nDas Training richtet sich an JSON-Einsteiger\, Mitarbeiter von IT-Abteilungen\, Projektgruppen\, Entwickler\, Datenanalysten und e-Business-Berater\, die die grundlegenden Konzepte und Anwendungsmöglichkeiten von JSON und JSON-Schema kennenlernen möchten. Auch Mitarbeiter\, die mit APIs arbeiten\, werden von dieser Schulung profitieren. \nWelche Kenntnisse sollten Sie mitbringen?\nGrundkenntnisse über Datenstrukturen und Datenaustausch sind hilfreich\, aber keine Voraussetzung. \nWie lange dauert das Training?\nBitte planen Sie einen ganzen Tag für das Training ein. \nWann ist der Termin für diese Schulung?\n17. Juni 2025\, 9:00 – 17:00 Uhr \n \n        \n    \n\n\n\n\n\n    \n    \n	\n		\n        MELDEN SIE SICH JETZT AN.\n		\n	\n\n\n\n\n\n\n    \n        \n                \n                     Durch Klicken auf den Anmeldebutton werden Sie auf die GoToWebinar-Seite von LogMeIn\, Inc. weitergeleitet.
URL:https://www.gefeg.com/event/json-essentials-fuer-datenaustausch-profis-training-2/
CATEGORIES:Online-Training
ATTACH;FMTTYPE=image/jpeg:https://www.gefeg.com/wp-content/uploads/2024/02/Schulung-JSON-Essentials.jpg
END:VEVENT
BEGIN:VEVENT
DTSTART;TZID=Europe/Berlin:20250618T090000
DTEND;TZID=Europe/Berlin:20250618T170000
DTSTAMP:20260421T203227
CREATED:20241120T105614Z
LAST-MODIFIED:20250321T121437Z
UID:10000335-1750237200-1750266000@www.gefeg.com
SUMMARY:JSON-Schemas für den Datenaustausch entwickeln - Training
DESCRIPTION:Einführung in die Erstellung von JSON-Schemas mit GEFEG.FX\nTauchen Sie ein in die Welt der JSON-Entwicklung und lernen Sie\, wie Sie eigene JSON-Schemas  erstellen. In diesem Training erfahren Sie\, wie JSON-Schemas funktionieren und wie Sie damit komplexe Datenstrukturen dokumentieren und überprüfen können. \nWarum JSON und JSON-Schema?\nJSON (JavaScript Object Notation) ist ein weit verbreitetes Datenformat\, das für seinen einfachen Aufbau und seine Lesbarkeit bekannt ist. JSON-Schema erweitert JSON und bietet eine Methode zur Definition und Validierung von Datenstrukturen. Das ist besonders nützlich bei der Arbeit mit APIs (Programmierschnittstellen)\, wo es wichtig ist\, dass die Daten korrekt und einheitlich sind und der Datenaustausch meist über JSON-Dateien erfolgt. \nSchwerpunkt des Trainings\nDieses Training baut auf unserer Einführungsschulung über JSON und JSON Schema auf. Der Fokus dieses Trainings liegt auf der Entwicklung und Implementierung Ihrer eigenen JSON-Schemas. Sie lernen\, wie Sie mit dem GEFEG.FX JSON Schema Editor – einem leicht zu bedienenden Tool\, das auch ohne Programmierkenntnisse genutzt werden kann – Ihre eigenen JSON-Schemas erstellen. \n\nEigene JSON Schemas in GEFEG.FX entwickeln bzw. importieren\nDie Erstellung und Pflege Ihrer JSON Schemas mit GEFEG Guide-Technologie leichter machen\nJSON Schemas in APIs implementieren\nEine umfassende Dokumentation Ihrer JSON Schemas erstellen\n\nHaben Sie Fragen zum Webinar und / oder Input zu weiteren Webinar-Themen? \nWas werden Sie nach dem Training wissen?\nNach Abschluss des Trainings sind Sie in der Lage\, eigene JSON Schemas in GEFEG.FX zu erstellen\, diese in APIs zu implementieren und die Datenstrukturen zu validieren. Sie verstehen die spezifischen Merkmale und Vorteile der Nutzung von JSON und JSON Schema in modernen Webanwendungen und APIs. \nFür wen ist das Training gedacht?\nDas Training richtet sich an Interessierte\, die die grundlegenden Konzepte und Anwendungsmöglichkeiten von JSON und JSON Schema kennenlernen möchten. Insbesondere API-Anwender und Entwickler werden von dieser Schulung profitieren. \nWelche Kenntnisse sollten Sie mitbringen?\nIT-Grundkenntnisse und ein Verständnis für Datenstrukturen sind wünschenswert\, allerdings sind sie nicht zwingend erforderlich. Der GEFEG.FX JSON Schema Editor ermöglicht es Ihnen\, auch ohne tiefgehende Programmierkenntnisse effektive und valide JSON Schemas zu entwickeln. \nMelden Sie sich noch heute an und erweitern Sie Ihre Kenntnisse in der JSON-Entwicklung und -Implementierung! \nWie lange dauert das Training?\nBitte planen Sie einen ganzen Tag für das Training ein. \nWann findet das Training statt?\n18. Juni 2025\, 9:00 – 12:00 und 14:00 – 17:00 \n \n        \n    \n\n\n\n\n\n    \n    \n	\n		\n        MELDEN SIE SICH JETZT AN.\n		\n	\n\n\n\n\n\n\n    \n        \n                \n                     Durch Klicken auf den Anmeldebutton werden Sie auf die GoToWebinar-Seite von LogMeIn\, Inc. weitergeleitet.
URL:https://www.gefeg.com/event/json-schemas-fuer-den-datenaustausch-entwickeln-training-2/
CATEGORIES:Online-Training
ATTACH;FMTTYPE=image/jpeg:https://www.gefeg.com/wp-content/uploads/2024/02/Schulung-JSON-Schemas-fuer-den-Datenaustausch-entwickeln.jpg
END:VEVENT
END:VCALENDAR