BEGIN:VCALENDAR
VERSION:2.0
PRODID:-//GEFEG mbH - ECPv6.15.20//NONSGML v1.0//EN
CALSCALE:GREGORIAN
METHOD:PUBLISH
X-ORIGINAL-URL:https://www.gefeg.com/en/
X-WR-CALDESC:Events for GEFEG mbH
REFRESH-INTERVAL;VALUE=DURATION:PT1H
X-Robots-Tag:noindex
X-PUBLISHED-TTL:PT1H
BEGIN:VTIMEZONE
TZID:Europe/Berlin
BEGIN:DAYLIGHT
TZOFFSETFROM:+0100
TZOFFSETTO:+0200
TZNAME:CEST
DTSTART:20220327T010000
END:DAYLIGHT
BEGIN:STANDARD
TZOFFSETFROM:+0200
TZOFFSETTO:+0100
TZNAME:CET
DTSTART:20221030T010000
END:STANDARD
BEGIN:DAYLIGHT
TZOFFSETFROM:+0100
TZOFFSETTO:+0200
TZNAME:CEST
DTSTART:20230326T010000
END:DAYLIGHT
BEGIN:STANDARD
TZOFFSETFROM:+0200
TZOFFSETTO:+0100
TZNAME:CET
DTSTART:20231029T010000
END:STANDARD
BEGIN:DAYLIGHT
TZOFFSETFROM:+0100
TZOFFSETTO:+0200
TZNAME:CEST
DTSTART:20240331T010000
END:DAYLIGHT
BEGIN:STANDARD
TZOFFSETFROM:+0200
TZOFFSETTO:+0100
TZNAME:CET
DTSTART:20241027T010000
END:STANDARD
END:VTIMEZONE
BEGIN:VEVENT
DTSTART;TZID=Europe/Berlin:20231013T130000
DTEND;TZID=Europe/Berlin:20231013T140000
DTSTAMP:20260422T042505
CREATED:20230809T062834Z
LAST-MODIFIED:20231009T105218Z
UID:10000120-1697202000-1697205600@www.gefeg.com
SUMMARY:UN/CEFACT Reference Data Models - Reuse and specify ready-to-use building blocks for your data model - Free webinar
DESCRIPTION:The UN/CEFACT Reference Data Models bridge two domains within the International Supply Chain\, namely the Transport and Logistics domain and the Supply Chain and Procurement domain. In terms of content\, they provide a unifying framework for consolidating the constituent data models of these two domains. Importantly for users\, the unified framework addresses any overlap between the concepts used in their different contexts. From a technical perspective\, the Reference Data Models provide a unique semantic electronic tool. Ready-made building blocks are provided that can be reused and further specified. \nHands on customisation and reuse of UN/CEFACT Reference Data Models (RDMs)\nThe Reference Data Models share the same base of components from the UN Core Component Library (UN CCL). These components are interlinked\, but applied differently due to varying context and semantics between international sales and transport contracts\, information exchanges and business practices. \nThe webinar will provide an opportunity to get to know the different core component objects of the Reference Data Models (RDMs) and receive comprehensive information on the concept\, methodology and benefits of the RDMs. This introduction is followed by a practical part in which we show you how you can reuse the reference data model for your supply chain data exchange implementations with GEFEG.FX software. Using a practical example\, we present how to create your own company/organization’s implementation guidelines based on the RDMs in the distribution repository. \nTopics of our webinar on “CEFACT Reference Data Models – Reuse and specify ready-to-use building blocks for your data model”\nIn this webinar you will learn how to … \n\nReuse the GEFEG.FX UN/CEFACT global reference data models distribution data to design customised data exchanges with  cross-border supply chain business partners\nContextualize and restrict your usages of the reference data models\nIncorporate customer/user specific data requirements and business context\nGenerate XML schemas for data exchange implementation following the UNCEFACT Core Component Technical Specifications (CCTS) Naming and Design Rules\nCreate and generate human-readable documentation with templates\n\nAny questions about the webinar and/or input on other webinar topics? \nWho should participate?\nInternational Supply Chain actors who need to plan and implement data exchanges with commercial partners and cross-border authorities based on UNCEFACT Reference Data Models benefitting from the unique customisation functionalities provided by GEFEG.FX. \nWhat should you already know?\nGeneral knowledge about data modelling. UN/CEFACT standards and publications. \nHow much time will the webinar take?\nApprox. 50 to 60 minutes \n \n        \n    \n\n\n\n\n\n    \n    \n	\n		\n        REGISTER NOW
URL:https://www.gefeg.com/en/event/un-cefact-reference-data-models-reuse-and-specify-ready-to-use-building-blocks-for-your-data-model-free-webinar/
LOCATION:Online
CATEGORIES:Webinar
ATTACH;FMTTYPE=image/jpeg:https://www.gefeg.com/wp-content/uploads/2023/07/Webinar-Reuse-and-build-RDMs-in-GEFEG.FX_.jpg
END:VEVENT
BEGIN:VEVENT
DTSTART;TZID=Europe/Berlin:20231030T110000
DTEND;TZID=Europe/Berlin:20231030T123000
DTSTAMP:20260422T042505
CREATED:20230920T122906Z
LAST-MODIFIED:20231023T152450Z
UID:10000154-1698663600-1698669000@www.gefeg.com
SUMMARY:WCO Data Model 4.0.0: What should you know about the new version\, and what does it mean for your implementation? – Webinar
DESCRIPTION:WCO Data Model – Global Standard for Seamless Cross-border Regulatory Transactions\nAs of now\, the WCO Data Model version 4.0.0 publicly is available in the GEFEG.FX Distribution\, which follows the World Customs Organisation’s release of its latest version of the Data Model. The new version includes changes and updates introduced by users from Customs Authorities from around the globe and corrective changes introduced by the WCO’s modelling focus group\, then approved and published by the Data Model Projects Team (DMPT). The Data Model Projects Team is the responsible body for the development and maintenance of the WCO Data Model. \nWhat Business and Technical users should know about the new WCO Data Model version 4.0.0 in GEFEG.FX\nIn the webinar we will provide an overview about the deliverables\, changes and their potential impacts on existing and planned implementations to business and technical implementers of the WCO Data Model. Additionally\, we will briefly present the How-to documents that support users in applying all typical steps to implement and migrate to a new version of the WCO Data Model. Additionally\, the webinar offers a Questions & Answers session so that participants may raise questions and provide comments. \nWebinar Topics of What should you know about the new version\, and what does it mean for your implementation?\n\nQuick overview of the new WCO Data Model version 4.0.0 and its GEFEG deliverables\nGuidelines and How-To-Documents supporting implementation of the WCO Data Model\nQuestions & Answers session for technical implementers and business users\n\nWho should attend?\nBusiness experts and technical implementers of the WCO Data Model\, GEFEG.FX users \nWhat should you already know?\nPractical experience with GEFEG.FX and the WCO Data Model \nHow much time will the webinar take?\nApprox. 90 minutes \nCosts\nFree of charge service for GEFEG.FX customers and any other interested parties \n \n        \n    \n\n\n\n\n\n    \n    \n	\n		\n        REGISTER NOW
URL:https://www.gefeg.com/en/event/wco-data-model-4-0-0-what-should-you-know-about-the-new-version-and-what-does-it-mean-for-your-implementation-webinar-3/
ATTACH;FMTTYPE=image/jpeg:https://www.gefeg.com/wp-content/uploads/2023/09/Webinar-WCO-DataModel-V-4.0.0-WhatsNew.jpg
END:VEVENT
BEGIN:VEVENT
DTSTART;TZID=Europe/Berlin:20231030T150000
DTEND;TZID=Europe/Berlin:20231030T163000
DTSTAMP:20260422T042505
CREATED:20230920T122908Z
LAST-MODIFIED:20231023T153715Z
UID:10000155-1698678000-1698683400@www.gefeg.com
SUMMARY:WCO Data Model 4.0.0: What should you know about the new version\, and what does it mean for your implementation? – Webinar
DESCRIPTION:WCO Data Model – Global Standard for Seamless Cross-border Regulatory Transactions\nAs of now\, the WCO Data Model version 4.0.0 publicly is available in the GEFEG.FX Distribution\, which follows the World Customs Organisation’s release of its latest version of the Data Model. The new version includes changes and updates introduced by users from Customs Authorities from around the globe and corrective changes introduced by the WCO’s modelling focus group\, then approved and published by the Data Model Projects Team (DMPT). The Data Model Projects Team is the responsible body for the development and maintenance of the WCO Data Model. \nWhat Business and Technical users should know about the new WCO Data Model version 4.0.0 in GEFEG.FX\nIn the webinar we will provide an overview about the deliverables\, changes and their potential impacts on existing and planned implementations to business and technical implementers of the WCO Data Model. Additionally\, we will briefly present the How-to documents that support users in applying all typical steps to implement and migrate to a new version of the WCO Data Model. Additionally the webinar offers a Questions & Answers session so that participants may raise questions and provide comments. \nWebinar Topics of What should you know about the new version\, and what does it mean for your implementation?\n\nQuick overview of the new WCO Data Model version 4.0.0 and its GEFEG deliverables\nGuidelines and How-To-Documents supporting implementation of the WCO Data Model\nQuestions & Answers session for technical implementers and business users\n\nWho should attend?\nBusiness experts and technical implementers of the WCO Data Model\, GEFEG.FX users \nWhat should you already know?\nPractical experience with GEFEG.FX and the WCO Data Model \nHow much time will the webinar take?\nApprox. 90 minutes \nCosts\nFree of charge service for GEFEG.FX customers and any other interested parties \n \n        \n    \n\n\n\n\n\n    \n    \n	\n		\n        REGISTER NOW
URL:https://www.gefeg.com/en/event/wco-data-model-4-0-0-what-should-you-know-about-the-new-version-and-what-does-it-mean-for-your-implementation-webinar-4/
ATTACH;FMTTYPE=image/jpeg:https://www.gefeg.com/wp-content/uploads/2023/09/Webinar-WCO-DataModel-V-4.0.0-WhatsNew.jpg
END:VEVENT
END:VCALENDAR