BEGIN:VCALENDAR
VERSION:2.0
PRODID:-//GEFEG mbH - ECPv6.15.20//NONSGML v1.0//EN
CALSCALE:GREGORIAN
METHOD:PUBLISH
X-WR-CALNAME:GEFEG mbH
X-ORIGINAL-URL:https://www.gefeg.com/en/
X-WR-CALDESC:Events for GEFEG mbH
REFRESH-INTERVAL;VALUE=DURATION:PT1H
X-Robots-Tag:noindex
X-PUBLISHED-TTL:PT1H
BEGIN:VTIMEZONE
TZID:Europe/Berlin
BEGIN:DAYLIGHT
TZOFFSETFROM:+0100
TZOFFSETTO:+0200
TZNAME:CEST
DTSTART:20230326T010000
END:DAYLIGHT
BEGIN:STANDARD
TZOFFSETFROM:+0200
TZOFFSETTO:+0100
TZNAME:CET
DTSTART:20231029T010000
END:STANDARD
BEGIN:DAYLIGHT
TZOFFSETFROM:+0100
TZOFFSETTO:+0200
TZNAME:CEST
DTSTART:20240331T010000
END:DAYLIGHT
BEGIN:STANDARD
TZOFFSETFROM:+0200
TZOFFSETTO:+0100
TZNAME:CET
DTSTART:20241027T010000
END:STANDARD
BEGIN:DAYLIGHT
TZOFFSETFROM:+0100
TZOFFSETTO:+0200
TZNAME:CEST
DTSTART:20250330T010000
END:DAYLIGHT
BEGIN:STANDARD
TZOFFSETFROM:+0200
TZOFFSETTO:+0100
TZNAME:CET
DTSTART:20251026T010000
END:STANDARD
END:VTIMEZONE
BEGIN:VEVENT
DTSTART;TZID=Europe/Berlin:20240305T110000
DTEND;TZID=Europe/Berlin:20240305T120000
DTSTAMP:20260421T192958
CREATED:20231201T103218Z
LAST-MODIFIED:20240430T090129Z
UID:10000229-1709636400-1709640000@www.gefeg.com
SUMMARY:Efficiently develop guidelines for business data exchange with GEFEG.FX - Free webinar
DESCRIPTION:Develop tailor-made and efficient EDI specifications for data exchange\nAre you faced with the task of customising EDI specifications for your company? You want to share a precise specification with your EDI partners that reflects the specific data exchange requirements of your company or organisation. Or you need an EDI specification for internal company requirements in order to be able to provide information about the necessary business data at any time. Other requirements are quickly added: such as quickly available EDI standards\, efficient functions\, human-readable documentation. \nInternational e-business standards as the basis for EDI specifications\nThe first step on the way to efficient guideline development is the use of international e-business standards\, such as EDIFACT\, GS1 EANCOM®\, Odette\, VDA or others. This is where our GEFEG.FX software provides support by providing the latest international standards. Based on the e-business standards\, the software offers useful and versatile functions for specifying\, testing\, publishing and later updating the EDI specification to meet new requirements. \nJoin our webinar and take part in a practical demonstration. We will show you how to efficiently create customised EDI specifications based on classic B2B standards in GEFEG.FX and document them in Word/PDF format. \nWebinar topics of “Efficiently develop guidelines for business data exchange with GEFEG.FX”\n\nCreate standards-compliant guidelines based on international standards with GEFEG.FX\nGenerate a documentation of your company-specific requirements with just a few clicks\nUse GEFEG.FX to reduce your coordination efforts with your EDI partners and save time when connecting your partners to your EDI systems.\n\n  \nAny questions about the webinar and/or input on other webinar topics? \nWho should participate?\nWe recommend the webinar to planners and developers of business data interchange based on business standards \nWhat should you already know ?\nBasic understanding of business data exchange is recommended. \nHow much time will the webinar take?\nPlan about 50 to 60 minutes for the webinar. \n \n        \n    \n\n\n\n\n\n    \n    \n	\n		\n        REGISTER NOW\n		\n	\n\n\n\n\n\n\n    \n        \n                \n                     When you click on the registration button\, you will be redirected to the LogMeIn\, Inc. GoToWebinar page to register and provide you with important information related to this event.
URL:https://www.gefeg.com/en/event/efficiently-develop-guidelines-for-business-data-exchange-with-gefeg-fx-free-webinar-2/
LOCATION:Online
CATEGORIES:Webinar
ATTACH;FMTTYPE=image/jpeg:https://www.gefeg.com/wp-content/uploads/2023/08/Effizient-Guidelines-fuer-den-Geschaeftsdatenaustausch-entwickeln-Webinar.jpg
END:VEVENT
BEGIN:VEVENT
DTSTART;TZID=Europe/Berlin:20240315T110000
DTEND;TZID=Europe/Berlin:20240315T120000
DTSTAMP:20260421T192958
CREATED:20231201T105942Z
LAST-MODIFIED:20231201T110209Z
UID:10000231-1710500400-1710504000@www.gefeg.com
SUMMARY:Customised guides for your XML schemas - Why\, when and how should you use this technology? - Free webinar
DESCRIPTION:GEFEG.FX’s XML Schema Guide technology intentionally focuses on a way to develop customised XML schemas in GEFEG.FX\, adapt them to company requirements in a time-saving manner based on the standards and formats provided by the software\, such as CEFACT XML\, GS1 XML\, connectSpec (formerly: OAGIS)\, or UBL\, and drastically reduce future maintenance efforts. \nThe guide technology in GEFEG.FX\nIn GEFEG.FX software the term guide refers to the specification\, such as Message Implementation Guidelines\, Implementation Conventions\, or guideline for the actual implementation of an XML schema\, data model\, or EDI standard. It can be regarded of as a writeable\, transparent layer that is put over the base – the original XML schema – and allows all of the original structural components\, attributes\, types\, and comments to show through. \nWhen would you use XML schema guide\nXML schema guides are used to further describe and specify their XML schemas. The usage is straightforward as the same basic XML structure could be reused and further specified in different XML guides. It does make sense to use a guide if: \n\nThe XML schema used as a base changes regularly.\n\nThe XML schema used as a base is not under your control\, but has been developed and provided by standards developing organisations\, regulatory bodies\, or created by developer’s system \n\nDifferent profiles have to be maintained\n\nReduce maintenance efforts and costs with XML Guide technology\nThe guide technology has the major benefit of allowing the base schema to be changed without the need of a new guide.\nNotes and comments submitted to the schema guide\, such as specifications or restriction\, are simply stored inside the guide and have no effect on the base.\nSeveral schema guides can be put on top of one other\, as if they were transparent\, and can be further restricted given the context.\n\n\n\n\nTopics of the “Customised guides for your XML schemas – Why\, when and how should you use this technology?” Free Webinar\nLearn about … \n\nSchema guide design principles\nSchema guide functions in GEFEG.FX\nXML schema guide editor in GEFEG.FX\nCreating human-readable documentation for the XML schema guide\nImporting and exporting XML schemas\n\n  \nAny questions about the webinar and/or input on other webinar topics? \nWho should attend?\nWe recommend the webinar to all technical and business-oriented staff of companies organizing or implementing XML schema format exchanges \nWhich knowledge should you already have?\nInterest in Schema Development \nHow much time will the webinar take?\nAllow about 50 to 60 minutes to attend this webinar. \n \n        \n    \n\n\n\n\n\n    \n    \n	\n		\n        REGISTER NOW\n		\n	\n\n\n\n\n\n\n    \n        \n                \n                     When you click on the registration button\, you will be redirected to the LogMeIn\, Inc. GoToWebinar page to register and provide you with important information related to this event.
URL:https://www.gefeg.com/en/event/customised-guides-for-your-xml-schemas-why-when-and-how-should-you-use-this-technology-free-webinar-2/
LOCATION:Online
CATEGORIES:Webinar
ATTACH;FMTTYPE=image/jpeg:https://www.gefeg.com/wp-content/uploads/2023/07/Webinar-Nutzerspezifische-Guidelines-fuer-XML-Schemas.jpg
END:VEVENT
BEGIN:VEVENT
DTSTART;TZID=Europe/Berlin:20240319T090000
DTEND;TZID=Europe/Berlin:20240319T170000
DTSTAMP:20260421T192958
CREATED:20231201T110241Z
LAST-MODIFIED:20231201T110247Z
UID:10000228-1710838800-1710867600@www.gefeg.com
SUMMARY:Data formats in the EDI environment - Training
DESCRIPTION:Learn about data exchange formats and standards for EDI in a 1-day training\nUN/EDIFACT\, Flatfile\, GS1 EANCOM®\, SAP IDoc\, Odette Recommendations and others: More about the most common data formats and EDI standards in the EDI environment\nWhy should you learn more about EDI data exchange formats or EDI standards? They include the technical format descriptions and at the same time offer a content framework for data exchange – thus providing an important basis for exchanging exactly the information required for smooth electronic data exchange. \nEDI (Electronic Data Interchange) is often considered to be the same as EDIFACT. Yet\, EDI comprises all standards that replace the paper document in the B2B and B2C environment. In this training you will not only get to know the industry-independent EDI standard UN/EDIFACT\, but also gain insights into other EDI standards\, such as GS1 EANCOM® and the new VDA Recommendations: these are based on EDIFACT and have been further specified with a focus on a specific industry. In order to identify the similarities and differences\, we introduce you to features and structures of these eBusiness standards. \nTopics of the “Data formats in the EDI environment” training\n\nData exchange formats and EDI standards for electronic data exchange\nRecord and field\, grouping of records and fields\, header and trailer record\nStructure\, features\, similarities and differences of various exchange formats for EDI\nDifferentiation as to XML based standards\nOther data standards: Tradacoms\, ASC X12\, CSV\, Flat-file\, GS1 XML\, SEPA XML\, ISO20022 XML.\n\n  \nAny questions about the webinar and/or input on other webinar topics? \nWhat will you know afterwards?\nYou will know the important data exchange formats and EDI standards and be able to identify which special features they have. You will know how to handle the formats and how to read the formats with which tools. \nWho should attend?\nEDI newbies. Members of business departments\, EDI project groups\, IT and EDI departments. EDI and eBusiness consultants who want to gain knowledge of the important data exchange formats for EDI as well as employees with tasks in the area of data conversion. \nWhat should you already know?\nBasic IT knowledge \nHow much time will the training take?\nPlease plan a full day for the training. \nWhen will the training take place\n19 March 2024\, 9:00 to 12:00 and 14:00 to 17:00 \n \n        \n    \n\n\n\n\n\n\n    \n        \n            \n                \n            \n        \n    \n\n\n\n    \n    \n	\n		\n        REGISTER NOW\n		\n	\n\n\n\n\n\n\n    \n        \n                \n                     When you click on the registration button\, you will be redirected to the LogMeIn\, Inc. GoToWebinar page to register and provide you with important information related to this event.
URL:https://www.gefeg.com/en/event/data-formats-in-the-edi-environment-training-2/
LOCATION:Online
CATEGORIES:Web-Training
ATTACH;FMTTYPE=image/jpeg:https://www.gefeg.com/wp-content/uploads/2023/07/Training-Datenformate-im-EDI-Umfeld.jpg
END:VEVENT
BEGIN:VEVENT
DTSTART;TZID=Europe/Berlin:20240320T090000
DTEND;TZID=Europe/Berlin:20240320T170000
DTSTAMP:20260421T192958
CREATED:20231201T111306Z
LAST-MODIFIED:20231201T111314Z
UID:10000226-1710925200-1710954000@www.gefeg.com
SUMMARY:Develop your EDI specifications efficiently with GEFEG.FX software for an easy-to-maintain EDI implementation - Training
DESCRIPTION:Planning and implementing classic EDI guides with GEFEG.FX\nIn order to develop an EDI specification efficiently\, many companies opt for proven and widely used EDI standards such as UN/EDIFACT\, GS1 EANCOM or the VDA recommendations. Not least because they can trust that an established standard is future-proof and used by many companies. With GEFEG.FX software\, you also use specialized\, powerful and at the same time innovative software for preparing EDI applications for data exchange based on classic EDI standards. And you have the option of also developing XML schemas for data exchange with GEFEG.FX. \nIn the training focussing on planning and implementing classic EDI with GEFEG.FX\, you will learn how to efficiently use standards provided by GEFEG.FX. Based on these standards\, you will develop\, document and maintain your own EDI specifications for electronic data interchange. Furthermore\, you will learn how to document and specify IDoc structures\, flat file formats or in-house standards with GEFEG.FX. In addition\, you will learn how \n\nto use GEFEG.FX to check EDI guides and in-house formats\nto produce and check test data and\nto create mappings\, e.g. between SAP IDoc and an ORDERS Guideline.\n\nDuring the training you will immediately apply what you have learned with practical exercises using the example of an EDIFACT-ORDERS. Of course we will also give you tips from our daily work with EDI specifications. \nTopics of the “Develop your EDI specifications efficiently with GEFEG.FX software for an easy-to-maintain EDI implementation” training\n\nIntroduction to the GEFEG.FX software: overview and functions\, import and export options\, data management and version management\nEDI Standards in GEFEG.FX: Development of proprietary EDI standards\nEDI Standards in GEFEG.FX: Reuse of existing EDI standards\nDeveloping guidelines: Develop EDI guide\, principles and approach\nGenerate human readable documentation: Documentation principle\, templates\nTest data: Checking of EDIFACT text messages\, error log\, business rules for checking semantics\nMapping: Mapping project with two EDI format\, mapping Templates\n\n  \nAny questions about the webinar and/or input on other webinar topics? \nWhat will you know afterwards?\nAfter attending the course\, participants will know how to develop guidelines based on classic EDI standards\, how to check test data against guidelines\, and how to generate human-readable documentation. You will be independently capable to build a flat file format. The participants have learned how to represent content relationships between data fields in a mapping and how to generate them as a report. \nWho should attend?\nUsers who want to create EDI specifications with GEFEG.FX\, specify them and output them as human-readable documentation. The course is intended for users who are new to the software and for users who want to update their knowledge of the classic EDI functions of GEFEG.FX and supplement it with practical tips. \nWhat should you already know?\nKnowledge of an EDIFACT-based standard or participation in the course Data Formats in the EDI Environment \nHow much time will the training take?\nWe recommend you to plan for 2 full days. \nWhen will the training take place?\n20 March 2024\, 9:00 – 12:00 and 14:00 – 17:00\n21 March 2024\, 9:00 – 12:00 and 14:00 – 17:00 \n  \n \n        \n    \n\n\n\n\n\n    \n    \n	\n		\n        REGISTER NOW\n		\n	\n\n\n\n\n\n\n    \n        \n                \n                     When you click on the registration button\, you will be redirected to the LogMeIn\, Inc. GoToWebinar page to register and provide you with important information related to this event.
URL:https://www.gefeg.com/en/event/develop-your-edi-specifications-efficiently-with-gefeg-fx-software-for-an-easy-to-maintain-edi-implementation-training-2/2024-03-20/
CATEGORIES:Web-Training
ATTACH;FMTTYPE=image/jpeg:https://www.gefeg.com/wp-content/uploads/2023/06/Training-Klassische-EDI-Spezifikationen-effizient-entwickeln.jpg
END:VEVENT
BEGIN:VEVENT
DTSTART;TZID=Europe/Berlin:20240321T090000
DTEND;TZID=Europe/Berlin:20240321T170000
DTSTAMP:20260421T192958
CREATED:20231201T111306Z
LAST-MODIFIED:20231201T111314Z
UID:10000227-1711011600-1711040400@www.gefeg.com
SUMMARY:Develop your EDI specifications efficiently with GEFEG.FX software for an easy-to-maintain EDI implementation - Training
DESCRIPTION:Planning and implementing classic EDI guides with GEFEG.FX\nIn order to develop an EDI specification efficiently\, many companies opt for proven and widely used EDI standards such as UN/EDIFACT\, GS1 EANCOM or the VDA recommendations. Not least because they can trust that an established standard is future-proof and used by many companies. With GEFEG.FX software\, you also use specialized\, powerful and at the same time innovative software for preparing EDI applications for data exchange based on classic EDI standards. And you have the option of also developing XML schemas for data exchange with GEFEG.FX. \nIn the training focussing on planning and implementing classic EDI with GEFEG.FX\, you will learn how to efficiently use standards provided by GEFEG.FX. Based on these standards\, you will develop\, document and maintain your own EDI specifications for electronic data interchange. Furthermore\, you will learn how to document and specify IDoc structures\, flat file formats or in-house standards with GEFEG.FX. In addition\, you will learn how \n\nto use GEFEG.FX to check EDI guides and in-house formats\nto produce and check test data and\nto create mappings\, e.g. between SAP IDoc and an ORDERS Guideline.\n\nDuring the training you will immediately apply what you have learned with practical exercises using the example of an EDIFACT-ORDERS. Of course we will also give you tips from our daily work with EDI specifications. \nTopics of the “Develop your EDI specifications efficiently with GEFEG.FX software for an easy-to-maintain EDI implementation” training\n\nIntroduction to the GEFEG.FX software: overview and functions\, import and export options\, data management and version management\nEDI Standards in GEFEG.FX: Development of proprietary EDI standards\nEDI Standards in GEFEG.FX: Reuse of existing EDI standards\nDeveloping guidelines: Develop EDI guide\, principles and approach\nGenerate human readable documentation: Documentation principle\, templates\nTest data: Checking of EDIFACT text messages\, error log\, business rules for checking semantics\nMapping: Mapping project with two EDI format\, mapping Templates\n\n  \nAny questions about the webinar and/or input on other webinar topics? \nWhat will you know afterwards?\nAfter attending the course\, participants will know how to develop guidelines based on classic EDI standards\, how to check test data against guidelines\, and how to generate human-readable documentation. You will be independently capable to build a flat file format. The participants have learned how to represent content relationships between data fields in a mapping and how to generate them as a report. \nWho should attend?\nUsers who want to create EDI specifications with GEFEG.FX\, specify them and output them as human-readable documentation. The course is intended for users who are new to the software and for users who want to update their knowledge of the classic EDI functions of GEFEG.FX and supplement it with practical tips. \nWhat should you already know?\nKnowledge of an EDIFACT-based standard or participation in the course Data Formats in the EDI Environment \nHow much time will the training take?\nWe recommend you to plan for 2 full days. \nWhen will the training take place?\n20 March 2024\, 9:00 – 12:00 and 14:00 – 17:00\n21 March 2024\, 9:00 – 12:00 and 14:00 – 17:00 \n  \n \n        \n    \n\n\n\n\n\n    \n    \n	\n		\n        REGISTER NOW\n		\n	\n\n\n\n\n\n\n    \n        \n                \n                     When you click on the registration button\, you will be redirected to the LogMeIn\, Inc. GoToWebinar page to register and provide you with important information related to this event.
URL:https://www.gefeg.com/en/event/develop-your-edi-specifications-efficiently-with-gefeg-fx-software-for-an-easy-to-maintain-edi-implementation-training-2/2024-03-21/
CATEGORIES:Web-Training
ATTACH;FMTTYPE=image/jpeg:https://www.gefeg.com/wp-content/uploads/2023/06/Training-Klassische-EDI-Spezifikationen-effizient-entwickeln.jpg
END:VEVENT
BEGIN:VEVENT
DTSTART;TZID=Europe/Berlin:20240326T140000
DTEND;TZID=Europe/Berlin:20240326T170000
DTSTAMP:20260421T192958
CREATED:20231101T085423Z
LAST-MODIFIED:20231201T111308Z
UID:10000185-1711461600-1711472400@www.gefeg.com
SUMMARY:WebAPIs with OpenAPI 3 - 21st Training
DESCRIPTION:Web APIs with OpenAPI 3.x\n            \n        \n    \n\n\n\n\n\n\n    \n        \n                \n                     Next generation data exchange\, not just for EDI-experts\nWebAPIs with OpenAPI 3 are now the talk of the town. Whether in the automotive industry\, trade\, customs\, FinTecs or insurance. Companies everywhere are increasingly relying on APIs. International standardisation organisations such as UN/CEFACT are also addressing this topic. \nThe OpenAPI 3.x specification standard seems to be gaining acceptance here. It combines the claim to make an API readable both for a computer and for the web developer\, who then has to implement it. \nSo is this the next generation of data exchange? Will it be able to solve all syntax problems and will it completely replace the classic EDI? \nThe online training introduces the topic of APIs and their benefits in the B2B and B2G environment. It also highlights the differences between web services and WebAPIs. Different approaches to message and resource-based data exchange make it possible\, with appropriate design\, to cover future use cases that were not even known when the API was created. \nKey topics from the training\n\nAPI – Terms and Basics\nAPI – Classification and Distinction from Classic EDI (Web Services\, SOA\, REST\, Open API versus Public API)\nREST Service Contracts and Design Principles\nEvent-driven data exchange\nThe Open API 3.x specification standard\nAPI Management and Governance\nAPI development tips\n\n  \nAny questions about the web training and/or input on webinar topics? \nTarget audiences\nThe training is aimed at all those who want to get to know the concept of WebAPIs with OpenAPI 3 and their applicability for B2B and B2G data exchange. This includes both beginners to the topic as well as EDI experts who are dealing with WebAPIs for the first time. \nPrerequisites\nThe training does not require any programming knowledge. However\, a basic understanding of data exchange between applications\, for example based on EDIFACT\, XML or similar formats\, is helpful. \nDuration\n2x 3 hours \nDates\n2024-03-26\, 2 – 5 pm CET (1st part)\n2024-03-28\, 2 – 5 pm CET (2nd part) \nThis training is available in German language as well. \n \n        \n    \n\n\n\n\n\n    \n    \n	\n		\n        REGISTER NOW\n		\n	\n\n\n\n\n\n\n    \n        \n                \n                     When you click on the registration button\, you will be redirected to the LogMeIn\, Inc. GoToWebinar page to register and provide you with important information related to this event.
URL:https://www.gefeg.com/en/event/webapis-with-openapi-3-4/2024-03-26/
LOCATION:Online
CATEGORIES:Web-Training
ATTACH;FMTTYPE=image/jpeg:https://www.gefeg.com/wp-content/uploads/2023/06/API_1280x720-1.jpg
END:VEVENT
BEGIN:VEVENT
DTSTART;TZID=Europe/Berlin:20240328T140000
DTEND;TZID=Europe/Berlin:20240328T170000
DTSTAMP:20260421T192958
CREATED:20231101T085423Z
LAST-MODIFIED:20231201T111308Z
UID:10000196-1711634400-1711645200@www.gefeg.com
SUMMARY:WebAPIs with OpenAPI 3 - 21st Training
DESCRIPTION:Web APIs with OpenAPI 3.x\n            \n        \n    \n\n\n\n\n\n\n    \n        \n                \n                     Next generation data exchange\, not just for EDI-experts\nWebAPIs with OpenAPI 3 are now the talk of the town. Whether in the automotive industry\, trade\, customs\, FinTecs or insurance. Companies everywhere are increasingly relying on APIs. International standardisation organisations such as UN/CEFACT are also addressing this topic. \nThe OpenAPI 3.x specification standard seems to be gaining acceptance here. It combines the claim to make an API readable both for a computer and for the web developer\, who then has to implement it. \nSo is this the next generation of data exchange? Will it be able to solve all syntax problems and will it completely replace the classic EDI? \nThe online training introduces the topic of APIs and their benefits in the B2B and B2G environment. It also highlights the differences between web services and WebAPIs. Different approaches to message and resource-based data exchange make it possible\, with appropriate design\, to cover future use cases that were not even known when the API was created. \nKey topics from the training\n\nAPI – Terms and Basics\nAPI – Classification and Distinction from Classic EDI (Web Services\, SOA\, REST\, Open API versus Public API)\nREST Service Contracts and Design Principles\nEvent-driven data exchange\nThe Open API 3.x specification standard\nAPI Management and Governance\nAPI development tips\n\n  \nAny questions about the web training and/or input on webinar topics? \nTarget audiences\nThe training is aimed at all those who want to get to know the concept of WebAPIs with OpenAPI 3 and their applicability for B2B and B2G data exchange. This includes both beginners to the topic as well as EDI experts who are dealing with WebAPIs for the first time. \nPrerequisites\nThe training does not require any programming knowledge. However\, a basic understanding of data exchange between applications\, for example based on EDIFACT\, XML or similar formats\, is helpful. \nDuration\n2x 3 hours \nDates\n2024-03-26\, 2 – 5 pm CET (1st part)\n2024-03-28\, 2 – 5 pm CET (2nd part) \nThis training is available in German language as well. \n \n        \n    \n\n\n\n\n\n    \n    \n	\n		\n        REGISTER NOW\n		\n	\n\n\n\n\n\n\n    \n        \n                \n                     When you click on the registration button\, you will be redirected to the LogMeIn\, Inc. GoToWebinar page to register and provide you with important information related to this event.
URL:https://www.gefeg.com/en/event/webapis-with-openapi-3-4/2024-03-28/
LOCATION:Online
CATEGORIES:Web-Training
ATTACH;FMTTYPE=image/jpeg:https://www.gefeg.com/wp-content/uploads/2023/06/API_1280x720-1.jpg
END:VEVENT
END:VCALENDAR