BEGIN:VCALENDAR
VERSION:2.0
PRODID:-//GEFEG mbH - ECPv6.15.20//NONSGML v1.0//EN
CALSCALE:GREGORIAN
METHOD:PUBLISH
X-WR-CALNAME:GEFEG mbH
X-ORIGINAL-URL:https://www.gefeg.com/en/
X-WR-CALDESC:Events for GEFEG mbH
REFRESH-INTERVAL;VALUE=DURATION:PT1H
X-Robots-Tag:noindex
X-PUBLISHED-TTL:PT1H
BEGIN:VTIMEZONE
TZID:Europe/Berlin
BEGIN:DAYLIGHT
TZOFFSETFROM:+0100
TZOFFSETTO:+0200
TZNAME:CEST
DTSTART:20230326T010000
END:DAYLIGHT
BEGIN:STANDARD
TZOFFSETFROM:+0200
TZOFFSETTO:+0100
TZNAME:CET
DTSTART:20231029T010000
END:STANDARD
BEGIN:DAYLIGHT
TZOFFSETFROM:+0100
TZOFFSETTO:+0200
TZNAME:CEST
DTSTART:20240331T010000
END:DAYLIGHT
BEGIN:STANDARD
TZOFFSETFROM:+0200
TZOFFSETTO:+0100
TZNAME:CET
DTSTART:20241027T010000
END:STANDARD
BEGIN:DAYLIGHT
TZOFFSETFROM:+0100
TZOFFSETTO:+0200
TZNAME:CEST
DTSTART:20250330T010000
END:DAYLIGHT
BEGIN:STANDARD
TZOFFSETFROM:+0200
TZOFFSETTO:+0100
TZNAME:CET
DTSTART:20251026T010000
END:STANDARD
END:VTIMEZONE
BEGIN:VEVENT
DTSTART;TZID=Europe/Berlin:20241001T110000
DTEND;TZID=Europe/Berlin:20241001T120000
DTSTAMP:20260421T145303
CREATED:20240508T134407Z
LAST-MODIFIED:20240927T150327Z
UID:10000274-1727780400-1727784000@www.gefeg.com
SUMMARY:Harmonising data in the transport sector - the Why and the How - Free webinar
DESCRIPTION:New requirements in digital data exchange for the transport and logistics industry\nDigital documents have long been present in the global exchange of goods\, accompanying every delivery and becoming increasingly important. The transport industry must therefore prepare itself for the fact that data as a digital companion and the digital data exchange will continue to increase in the future. The public sector is also planning to move from paper to electronic data in the future. Thus it supplements the usual paper-based data exchange between the players in the logistics industry. Not only is the data transfer volume increasing\, but also the request to process a large number of digital standards. It is well known that digital communication in the transport and logistics industry is not limited to a few B2B/B2G standards\, as in automotive or consumer goods industry\, for example. \nThese developments present companies with new challenges. In future\, it will be important to determine which data is already covered by their IT systems and which new requirements they need to take into account. An important step in adapting to new interfaces is to record the data content used in commercial and transport processes and documents. For example\, such as transport contracts\, freight processes\, delivery notes\, shipments and shipment tracking. The recorded data can then be harmonised. This improves interoperability\, gives you a better overview and strengthens your ability to react quickly and effectively to future changes. \nUN/CEFACT Multi Modal Transport Reference Data Model\nThe UN/CEFACT Multimodal Transport Reference Data Model (MMT RDM) provides an important basis for supporting data harmonisation for all transport-related documents. In the next step it also supports your implementations. The multimodal transport model comprises harmonised\, semantic structures that cover all data used in the transport and logistics sector for electronic data exchange. \nIn our webinar\, you will learn more about this model as well as the concept\, methodology and data harmonisation benefits of using it. Not least due to the increasing number of eBusiness standards\, data exchange managers are increasingly opting to use a model-based approach. This means that you first represent the data of a business document in an abstract\, syntax-neutral model. You then plan the specific data exchange formats on the basis of this model. \nTopics of our webinar on “Harmonising data in the transport sector – the why and the how”\nIn this webinar you will learn how to … \n\nreuse the Multi Modal Transport data model for data harmonisation and data exchange and edit it in GEFEG.FX\nadapt it according to your business requirements\nuse it for implementation by quickly and easily generating documentation from your data\, including XSD exports\, and deploying it\n\n  \nAny questions about the webinar and/or input on other webinar topics? \nWho is the webinar for?\nTransport and logistics professionals who want to get a better overview of their data\, harmonise their data or plan and implement their data exchange based on the multi-modal transport model. Users who would like to find out more about the special customisation functions of the GEFEG.FX software\, in which MMT-based data exchange subsets are specified and documented. \nWhat should you already know?\nGeneral knowledge about data modelling and UN/CEFACT standards and publications is helpful\, but not a requirement. \nHow much time will the webinar take?\nPlease plan for about 50 to 60 minutes. \n \n        \n    \n\n\n\n\n\n    \n    \n	\n		\n        REGISTER NOW\n		\n	\n\n\n\n\n\n\n    \n        \n                \n                     When you click on the registration button\, you will be redirected to the LogMeIn\, Inc. GoToWebinar page to register and provide you with important information related to this event.
URL:https://www.gefeg.com/en/event/harmonising-data-in-the-transport-sector-the-why-and-the-how-free-webinar-2-2/
CATEGORIES:Webinar
ATTACH;FMTTYPE=image/jpeg:https://www.gefeg.com/wp-content/uploads/2023/07/Webinar-Daten-harmonisieren-im-Transport-Sektor.jpg
END:VEVENT
BEGIN:VEVENT
DTSTART;TZID=Europe/Berlin:20241015T110000
DTEND;TZID=Europe/Berlin:20241015T120000
DTSTAMP:20260421T145304
CREATED:20240618T104518Z
LAST-MODIFIED:20240926T155812Z
UID:10000293-1728990000-1728993600@www.gefeg.com
SUMMARY:Using JSON schema with GEFEG.FX - How does it work? - Free webinar
DESCRIPTION:In this webinar you will learn more about the development of JSON schemas with GEFEG.FX. You will also gain an insight into the various functions that simplify the development\, maintenance and implementation of JSON Schema in your own IT system. \nBut what exactly is JSON Schema and how can it simplify data exchange between business partners? JSON Schema is a powerful tool used to validate JSON files. It ensures that all incoming and outgoing JSON files fulfil the technical and process-related requirements. With these advantages\, JSON Schema serves as a central validation function for every data interface\, ensuring high data quality when you exchange information with external partners. \nYou can create such schemas with our JSON schema editor. The editor provides a user-friendly development and test environment. It is also the only solution on the market that combines schema development with international standards. In this way\, the already established data structures for data exchange can be interacted with and maintained in the JSON schema files with minimal effort. GEFEG.FX thus combines the best of both worlds – the technical advantages of JSON schema with the business rules from the EDI standards. \nWe will show how to effectively integrate these two worlds while showcasing the features of the GEFEG.FX JSON editor. Register today and take part in our free webinar. We look forward to welcoming you and exploring the world of JSON together! \nTopics of the webinar Using JSON schema with GEFEG.FX – How does it work?\n\nWhat is JSON schema and why is it used?\nHow do you create your own JSON schema in GEFEG.FX from scratch?\nHow do you use imported data structures and EDI standards as a basis for your development?\nHow can you integrate the JSON schema files directly into your API interfaces?\n\n  \nAny questions about the webinar and/or input on other webinar topics? \n\nWho should participate?\nAs an IT and data exchange specialist\, would you like to expand your expertise in JSON and APIs? Are you thinking about expanding your traditional EDI activities with these new technologies? Or are you planning to develop JSON and APIs based on existing specifications? Then our webinar is the right place for you. \nWhat should you already know?\nNo need for JSON or JSON schema knowledge \nHow much time will the webinar take?\nPlan about 50 to 60 minutes for the webinar. \n \n        \n    \n\n\n\n\n\n    \n    \n	\n		\n        REGISTER NOW\n		\n	\n\n\n\n\n\n\n    \n        \n                \n                     When you click on the registration button\, you will be redirected to the LogMeIn\, Inc. GoToWebinar page to register and provide you with important information related to this event.
URL:https://www.gefeg.com/en/event/using-json-schema-with-gefeg-fx-how-does-it-work-free-webinar/
CATEGORIES:Webinar
ATTACH;FMTTYPE=image/jpeg:https://www.gefeg.com/wp-content/uploads/2024/02/Webinar-JSON-Intro-3840x1220-2.jpg
END:VEVENT
BEGIN:VEVENT
DTSTART;TZID=Europe/Berlin:20241029T110000
DTEND;TZID=Europe/Berlin:20241029T123000
DTSTAMP:20260421T145304
CREATED:20240917T110212Z
LAST-MODIFIED:20240927T150224Z
UID:10000300-1730199600-1730205000@www.gefeg.com
SUMMARY:Fully use the potential of WCO Data Model 4.1.0: What you need to know about the latest version\, and what does it mean for your implementation? – Free Webinar
DESCRIPTION:Explore the Latest WCO Data Model – The Global Standard for Seamless Cross-border Regulatory Transactions\nJoin our upcoming webinar to dive into the WCO Data Model version 4.1.0. As of now\, the latest version of the WCO Data Model is available in the GEFEG.FX Distribution\, which follows the World Customs Organisation’s release of its latest version of the Data Model.\nThis latest release of the WCO Data Model introduces the new Booking Reservation Information (BRI) dataset\, available as a Derived Information Package (DIP)\, designed to streamline implementation tasks for WCO Data Model users and the cruise industry. Additionally\, this version integrates the UPU dataset and Joint Message Standards\, further enhancing the facilitation and processing of postal shipments. \nInformation for Business and Technical users\nGet an overview about the deliverables\, changes and their potential impacts on existing and planned implementations. Additionally\, we will present supporting How-to documents about the typical steps to implement and migrate to a new version of the WCO Data Model addressing business and technical implementers of the WCO Data Model. \nKey topics of the webinar\n\nOverview of WCO Data Model 4.1.0: Understand the new features and improvements\, including updated datasets and standards.\nSupporting documents: Discover practical How-To-Documents supporting implementation of the WCO Data Model.\nInteractive Q&A Session: Engage with experts to address your questions and discuss how these updates impact your current and future implementations.\n\nWhy attend?\nThis webinar will provide business and technical users with a clear understanding of the latest updates and their implications. Whether you’re managing regulatory transactions or integrating new data models\, this session is supporting GEFEG.FX users in staying ahead in the evolving landscape of global standards. \nWho is the webinar planned for?\nBusiness experts and technical implementers of the WCO Data Model and GEFEG.FX users \nWhat should you already know?\nPractical experience with GEFEG.FX and the WCO Data Model \nHow much time will the webinar take?\nApprox. 90 minutes \n \n        \n    \n\n\n\n\n\n    \n    \n	\n		\n        REGISTER NOW\n		\n	\n\n\n\n\n\n\n    \n        \n                \n                     When you click on the registration button\, you will be redirected to the LogMeIn\, Inc. GoToWebinar page to register and provide you with important information related to this event.
URL:https://www.gefeg.com/en/event/wco-data-model-4-1-what-is-new-in-this-version-and-what-should-you-know-webinar/
CATEGORIES:Webinar
ATTACH;FMTTYPE=image/jpeg:https://www.gefeg.com/wp-content/uploads/2024/09/Webinar-WCO-DataModel-V-4.1-WhatsNew-1.jpg
END:VEVENT
BEGIN:VEVENT
DTSTART;TZID=Europe/Berlin:20241029T140000
DTEND;TZID=Europe/Berlin:20241029T170000
DTSTAMP:20260421T145304
CREATED:20240510T074134Z
LAST-MODIFIED:20240510T084147Z
UID:10000289-1730210400-1730221200@www.gefeg.com
SUMMARY:WebAPIs with OpenAPI 3 - 24th Training
DESCRIPTION:Next generation data exchange\, not just for EDI-experts\nWebAPIs with OpenAPI 3 are now the talk of the town. Whether in the automotive industry\, trade\, customs\, FinTecs or insurance. Companies everywhere are increasingly relying on APIs. International standardisation organisations such as UN/CEFACT are also addressing this topic. \nThe OpenAPI 3.x specification standard seems to be gaining acceptance here. It combines the claim to make an API readable both for a computer and for the web developer\, who then has to implement it. \nSo is this the next generation of data exchange? Will it be able to solve all syntax problems and will it completely replace the classic EDI? \nThe online training introduces the topic of APIs and their benefits in the B2B and B2G environment. It also highlights the differences between web services and WebAPIs. Different approaches to message and resource-based data exchange make it possible\, with appropriate design\, to cover future use cases that were not even known when the API was created. \nKey topics from the training\n\nAPI – Terms and Basics\nAPI – Classification and Distinction from Classic EDI (Web Services\, SOA\, REST\, Open API versus Public API)\nREST Service Contracts and Design Principles\nEvent-driven data exchange\nThe Open API 3.x specification standard\nAPI Management and Governance\nAPI development tips\n\n  \nAny questions about the web training and/or input on webinar topics? \nTarget audiences\nThe training is aimed at all those who want to get to know the concept of WebAPIs with OpenAPI 3 and their applicability for B2B and B2G data exchange. This includes both beginners to the topic as well as EDI experts who are dealing with WebAPIs for the first time. \nPrerequisites\nThe training does not require any programming knowledge. However\, a basic understanding of data exchange between applications\, for example based on EDIFACT\, XML or similar formats\, is helpful. \nDuration\n2x 3 hours \nDates\n2024-10-29\, 2 to 5 pm CET (1st part)\n2024-10-31\, 2 to 5 pm CET (2nd part) \nThis training is available in German language as well. \n \n        \n    \n\n\n\n\n\n    \n    \n	\n		\n        REGISTER NOW\n		\n	\n\n\n\n\n\n\n    \n        \n                \n                     When you click on the registration button\, you will be redirected to the LogMeIn\, Inc. GoToWebinar page to register and provide you with important information related to this event.
URL:https://www.gefeg.com/en/event/webapis-with-openapi-3-for-data-exchange-24-1/2024-10-29/
CATEGORIES:Web-Training
ATTACH;FMTTYPE=image/jpeg:https://www.gefeg.com/wp-content/uploads/2023/06/API_1280x720-1.jpg
END:VEVENT
BEGIN:VEVENT
DTSTART;TZID=Europe/Berlin:20241031T140000
DTEND;TZID=Europe/Berlin:20241031T170000
DTSTAMP:20260421T145304
CREATED:20240510T074134Z
LAST-MODIFIED:20240510T084147Z
UID:10000290-1730383200-1730394000@www.gefeg.com
SUMMARY:WebAPIs with OpenAPI 3 - 24th Training
DESCRIPTION:Next generation data exchange\, not just for EDI-experts\nWebAPIs with OpenAPI 3 are now the talk of the town. Whether in the automotive industry\, trade\, customs\, FinTecs or insurance. Companies everywhere are increasingly relying on APIs. International standardisation organisations such as UN/CEFACT are also addressing this topic. \nThe OpenAPI 3.x specification standard seems to be gaining acceptance here. It combines the claim to make an API readable both for a computer and for the web developer\, who then has to implement it. \nSo is this the next generation of data exchange? Will it be able to solve all syntax problems and will it completely replace the classic EDI? \nThe online training introduces the topic of APIs and their benefits in the B2B and B2G environment. It also highlights the differences between web services and WebAPIs. Different approaches to message and resource-based data exchange make it possible\, with appropriate design\, to cover future use cases that were not even known when the API was created. \nKey topics from the training\n\nAPI – Terms and Basics\nAPI – Classification and Distinction from Classic EDI (Web Services\, SOA\, REST\, Open API versus Public API)\nREST Service Contracts and Design Principles\nEvent-driven data exchange\nThe Open API 3.x specification standard\nAPI Management and Governance\nAPI development tips\n\n  \nAny questions about the web training and/or input on webinar topics? \nTarget audiences\nThe training is aimed at all those who want to get to know the concept of WebAPIs with OpenAPI 3 and their applicability for B2B and B2G data exchange. This includes both beginners to the topic as well as EDI experts who are dealing with WebAPIs for the first time. \nPrerequisites\nThe training does not require any programming knowledge. However\, a basic understanding of data exchange between applications\, for example based on EDIFACT\, XML or similar formats\, is helpful. \nDuration\n2x 3 hours \nDates\n2024-10-29\, 2 to 5 pm CET (1st part)\n2024-10-31\, 2 to 5 pm CET (2nd part) \nThis training is available in German language as well. \n \n        \n    \n\n\n\n\n\n    \n    \n	\n		\n        REGISTER NOW\n		\n	\n\n\n\n\n\n\n    \n        \n                \n                     When you click on the registration button\, you will be redirected to the LogMeIn\, Inc. GoToWebinar page to register and provide you with important information related to this event.
URL:https://www.gefeg.com/en/event/webapis-with-openapi-3-for-data-exchange-24-1/2024-10-31/
CATEGORIES:Web-Training
ATTACH;FMTTYPE=image/jpeg:https://www.gefeg.com/wp-content/uploads/2023/06/API_1280x720-1.jpg
END:VEVENT
END:VCALENDAR