BEGIN:VCALENDAR
VERSION:2.0
PRODID:-//GEFEG mbH - ECPv6.15.20//NONSGML v1.0//EN
CALSCALE:GREGORIAN
METHOD:PUBLISH
X-ORIGINAL-URL:https://www.gefeg.com/en/
X-WR-CALDESC:Events for GEFEG mbH
REFRESH-INTERVAL;VALUE=DURATION:PT1H
X-Robots-Tag:noindex
X-PUBLISHED-TTL:PT1H
BEGIN:VTIMEZONE
TZID:Europe/Berlin
BEGIN:DAYLIGHT
TZOFFSETFROM:+0100
TZOFFSETTO:+0200
TZNAME:CEST
DTSTART:20230326T010000
END:DAYLIGHT
BEGIN:STANDARD
TZOFFSETFROM:+0200
TZOFFSETTO:+0100
TZNAME:CET
DTSTART:20231029T010000
END:STANDARD
BEGIN:DAYLIGHT
TZOFFSETFROM:+0100
TZOFFSETTO:+0200
TZNAME:CEST
DTSTART:20240331T010000
END:DAYLIGHT
BEGIN:STANDARD
TZOFFSETFROM:+0200
TZOFFSETTO:+0100
TZNAME:CET
DTSTART:20241027T010000
END:STANDARD
BEGIN:DAYLIGHT
TZOFFSETFROM:+0100
TZOFFSETTO:+0200
TZNAME:CEST
DTSTART:20250330T010000
END:DAYLIGHT
BEGIN:STANDARD
TZOFFSETFROM:+0200
TZOFFSETTO:+0100
TZNAME:CET
DTSTART:20251026T010000
END:STANDARD
END:VTIMEZONE
BEGIN:VEVENT
DTSTART;TZID=Europe/Berlin:20241105T110000
DTEND;TZID=Europe/Berlin:20241105T120000
DTSTAMP:20260421T162412
CREATED:20240508T151349Z
LAST-MODIFIED:20240508T152641Z
UID:10000275-1730804400-1730808000@www.gefeg.com
SUMMARY:Find errors in your EDI interfaces - Validate business messages - Free webinar
DESCRIPTION:Incorrect messages when sending or receiving business messages are part of the daily business in the EDI area and are a time and cost factor. What can you do to validate your own business messages against the specifications of the interfaces (guidelines) before they are sent? Which business rules can you use as a supplement to syntax checks to reduce typical or frequently occurring errors? How can you complete error correction work more quickly? \nIn this webinar\, we will focus on the topic of validating company-specific interfaces (guidelines) and error analysis. You will receive an introduction on how to set up a test environment in GEFEG.FX or how to use the GEFEG.Portal as a validation service. \nWebinar topics “Find errors in your EDI interfaces – Validate business messages”\n\nCheck XML files and EDIFACT messages against the structure of the relevant specification\nUse simple and/or complex business rules in GEFEG.FX to check semantics\nInterpret error messages and use the error log for error analysis\n\n  \nAny questions about the webinar and/or input on other webinar topics? \nWho should participate?\nThis webinar is for anyone who wants to complete the process of finding errors in your EDI and XML messages before they go live. \nWhat should you already know?\nGEFEG.FX knowledge is helpful\, but not a precondition. \nHow long will the webinar take?\nPlan about 50 to 60 minutes for the webinar. \n \n        \n    \n\n\n\n\n\n    \n    \n	\n		\n        REGISTER NOW\n		\n	\n\n\n\n\n\n\n    \n        \n                \n                     When you click on the registration button\, you will be redirected to the LogMeIn\, Inc. GoToWebinar page to register and provide you with important information related to this event.
URL:https://www.gefeg.com/en/event/find-errors-in-your-edi-interfaces-validate-business-messages-free-webinar-2/
CATEGORIES:Webinar
ATTACH;FMTTYPE=image/jpeg:https://www.gefeg.com/wp-content/uploads/2023/08/Webinar-Validation-XML-EDIFACT-specs.jpg
END:VEVENT
BEGIN:VEVENT
DTSTART;TZID=Europe/Berlin:20241119T090000
DTEND;TZID=Europe/Berlin:20241119T170000
DTSTAMP:20260421T162412
CREATED:20240510T085613Z
LAST-MODIFIED:20240920T130820Z
UID:10000269-1732006800-1732035600@www.gefeg.com
SUMMARY:New VDA message 4984 T2 Global DELFOR - Implementing delivery planning data - Training
DESCRIPTION:Are you planning to implement VDA 4984 Global DELFOR for the transmission of scheduling agreement data via EDI in the near future and adapting it to your requirements? \nTo support your implementation tasks and as an introduction to the VDA 4984 Global Delivery Forecast\, GEFEG offers the following 1-day training\, which is aimed at planners and implementers who are getting started with the planning of this message and / or are interested in the differences to previously used messages. \nWhat has changed compared to previous messages? And what should you pay attention to?\nBusiness partners in the automotive industry typically use the VDA recommendation 4984 Global DELFOR for the data exchange of delivery schedules and call-offs\, and in some cases also detailed call-offs. Recently\, the Global DELFOR message was adapted to meet the current requirements of the automotive industry\, so that it replaces and updates the previous messages. This VDA Recommendation defines in detail which data on scheduling agreements and delivery schedules must be admitted and which data may be transmitted. Are you interested in finding out the changes between the “old” and the new VDA messages? Which changes require special attention? \nMany OEMs and suppliers have contributed their know-how of delivery processes and information in order to modernise the VDA DELFOR Recommendation. Furthermore\, the new recommendation has been harmonised with the global EDI messages of the automotive supply chain. As a result\, an EDIFACT-based\, up-to-date recommendation is ready for implementation by the automotive industry and the automotive suppliers. The new Global DELFOR now better accounts for the requirements of the globalized economy and makes processes more transparent and flexible. \nThe new message replaces VDA 4905 & 4915\nThe VDA Recommendation for the data transmission of delivery schedules replaces the VDA Recommendations 4905 and 4915 as well as various variants. In the case of VW this means the replacement of even eight “old” VDA messages\, thus reducing complexity and offering savings potential for all parties involved. The application area of the DELFOR message includes the transmission of scheduling agreements and delivery schedules as well as JIT delivery schedules via EDI with EDIFACT. \nTraining topics of “New VDA message 4984 T2 Global DELFOR – Implementing delivery planning data”\n\nApplication scenarios and supported processes\nKey words of VDA 4984\nDesign and structure of the message\nChanges compared to VDA 4905\nRelationship to VDA 4985 GLOBAL DELJIT (daily call-off)\nRelationship to VDA 4986 GLOBAL DELJIT (JIS delivery schedules)\nMore EDI standards for the automotive industry\n\n  \nAny questions about the webinar and/or input on other webinar topics? \nWho is the training planned for?\nThe training is aimed at automotive suppliers\, automotive manufacturers (OEMs) and all other interested parties who are starting to plan the delivery planning data message (DELFOR) or are interested in the differences to other messages. \nWhat should you already know?\nKnowledge of the relevant delivery processes in the automotive industry would be helpful. \nHow much time will the training take?\nWe recommend you to allow for the full day. \nWhen will the training take place?\n19 November 2024\, 9:00 to 12:00 and 14:00 to 17:00 \n \n        \n    \n\n\n\n\n\n    \n    \n	\n		\n        REGISTER NOW\n		\n	\n\n\n\n\n\n\n    \n        \n                \n                     When you click on the registration button\, you will be redirected to the LogMeIn\, Inc. GoToWebinar page to register and provide you with important information related to this event.
URL:https://www.gefeg.com/en/event/new-vda-message-4984-t2-global-delfor-implementing-delivery-planning-data-training-2/
CATEGORIES:Web-Training
ATTACH;FMTTYPE=image/jpeg:https://www.gefeg.com/wp-content/uploads/2023/11/VDA-4984-DELFOR-1280x720-1.jpg
END:VEVENT
BEGIN:VEVENT
DTSTART;TZID=Europe/Berlin:20241120T090000
DTEND;TZID=Europe/Berlin:20241120T170000
DTSTAMP:20260421T162412
CREATED:20240510T090117Z
LAST-MODIFIED:20241113T092644Z
UID:10000270-1732093200-1732122000@www.gefeg.com
SUMMARY:New VDA message 4987 T2 Global Despatch Advice - Implement delivery call-off data – Training
DESCRIPTION:What has changed compared to VDA 4913? What should you watch out for in particular?\nMany companies in the automotive industry are currently updating their messages for data exchange in relation to delivery call-off data. In practice\, this means that they are implementing the revised version 4987 T2 Global Despatch Advice\, replacing VDA recommendation 4913. What is new about VDA message 4987 DESADV? What has been changed? \nSmooth processes in the automotive industry supply chain play an important role in efficient delivery processes and therefore also for the relevant EDI specifications. The Despatch Advice is used to exchange data on dispatch notifications and delivery call-offs. Market developments have made it necessary to redesign the VDA recommendation in order to take into account the increased process requirements due to changed conditions such as increasingly international supply relationships and different supply concepts. In the process of converting to EDIFACT-based messages\, not only the revision but also the replacement of the previous VDA Recommendation 4913 by the EDIFACT-based Global Despatch Advice message is now taking place. \nAre you interested in the changes and innovations because you will implement VDA 4987 or at least make adjustments to your specification? To support your implementation tasks and to get important information about the application scenarios\, the structure and the packaging examples of the VDA message 4987\, GEFEG offers the following 1-day training\, which is aimed at planners and implementers who are getting started with the planning of this message and / or are interested in the differences to previously used messages. \nTraining Topics of “New VDA message 4987 T2 Global Despatch Advice – Implement delivery call-off data”\n\nApplication scenarios: Transport order\, notification\, delivery notification\nConnection between transport\, shipment and delivery note\nDesign and structure of the VDA Recommendation 4987 DESADV\nChanges from VDA 4913 to VDA 4987 – Multi-item delivery notes\nKey terms for the part level\, the packaging level and the message/sending level\nPackaging examples and illustration of multi-stage packaging\nMore EDI standards for the automotive industry\n\n  \nAny questions about the webinar and/or input on other webinar topics? \nWho should attend?\nThe training is aimed at suppliers\, automotive manufacturers (OEMs) and all other interested parties who are starting to plan the Global DESADV (delivery call-off data message) or are interested in the differences to other messages. \nWhat should you already know?\nKnowledge of the relevant delivery processes in the automotive industry would be helpful. \nHow much time will the training take?\nWe recommend that you plan for the whole day. \nWhen will the training take place?\n20 November 2024\, 9:00 – 12:00 and 14:00 – 17:00 \n \n        \n    \n\n\n\n\n\n    \n    \n	\n		\n        REGISTER NOW\n		\n	\n\n\n\n\n\n\n    \n        \n                \n                     When you click on the registration button\, you will be redirected to the LogMeIn\, Inc. GoToWebinar page to register and provide you with important information related to this event.
URL:https://www.gefeg.com/en/event/new-vda-message-4987-t2-global-despatch-advice-implement-delivery-call-off-data-training-2/
CATEGORIES:Web-Training
ATTACH;FMTTYPE=image/jpeg:https://www.gefeg.com/wp-content/uploads/2023/11/VDA-4987-Despatch-Advice-3840x1220-1.jpg
END:VEVENT
BEGIN:VEVENT
DTSTART;TZID=Europe/Berlin:20241126T140000
DTEND;TZID=Europe/Berlin:20241126T170000
DTSTAMP:20260421T162412
CREATED:20240510T071443Z
LAST-MODIFIED:20240510T072802Z
UID:10000291-1732629600-1732640400@www.gefeg.com
SUMMARY:WebAPIs with OpenAPI 3 - 25th Training
DESCRIPTION:Next generation data exchange\, not just for EDI Experts\nWebAPIs with OpenAPI 3 are now the talk of the town. Whether in the automotive industry\, trade\, customs\, FinTecs or insurance. Companies everywhere are increasingly relying on APIs. International standardisation organisations such as UN/CEFACT are also addressing this topic. \nThe OpenAPI 3.x specification standard seems to be gaining acceptance here. It combines the claim to make an API readable both for a computer and for the web developer\, who then has to implement it. \nSo is this the next generation of data exchange? Will it be able to solve all syntax problems and will it completely replace the classic EDI? \nThe online training introduces the topic of APIs and their benefits in the B2B and B2G environment. It also highlights the differences between web services and WebAPIs. Different approaches to message and resource-based data exchange make it possible\, with appropriate design\, to cover future use cases that were not even known when the API was created. \nKey topics from the training\n\nAPI – Terms and Basics\nAPI – Classification and Distinction from Classic EDI (Web Services\, SOA\, REST\, Open API versus Public API)\nREST Service Contracts and Design Principles\nEvent-driven data exchange\nThe Open API 3.x specification standard\nAPI Management and Governance\nAPI development tips\n\n  \nAny questions about the web training and/or input on webinar topics? \nTarget audiences\nThe training is aimed at all those who want to get to know the concept of WebAPIs with OpenAPI 3 and their applicability for B2B and B2G data exchange. This includes both beginners to the topic as well as EDI experts who are dealing with WebAPIs for the first time. \nPrerequisites\nThe training does not require any programming knowledge. However\, a basic understanding of data exchange between applications\, for example based on EDIFACT\, XML or similar formats\, is helpful. \nDuration\n2x 3 hours \nDates\n2024-11-26\, 2 to 5 pm CET (1st part)\n2024-11-28\, 2 to 5 pm CET (2nd part) \nThis training is available in German language as well. \n \n        \n    \n\n\n\n\n\n    \n    \n	\n		\n        REGISTER NOW\n		\n	\n\n\n\n\n\n\n    \n        \n                \n                     When you click on the registration button\, you will be redirected to the LogMeIn\, Inc. GoToWebinar page to register and provide you with important information related to this event.
URL:https://www.gefeg.com/en/event/webapis-with-openapi-3-for-data-exchange-25/2024-11-26/
CATEGORIES:Web-Training
ATTACH;FMTTYPE=image/jpeg:https://www.gefeg.com/wp-content/uploads/2023/06/API_1280x720-1.jpg
END:VEVENT
BEGIN:VEVENT
DTSTART;TZID=Europe/Berlin:20241128T140000
DTEND;TZID=Europe/Berlin:20241128T170000
DTSTAMP:20260421T162412
CREATED:20240510T071443Z
LAST-MODIFIED:20240510T072802Z
UID:10000292-1732802400-1732813200@www.gefeg.com
SUMMARY:WebAPIs with OpenAPI 3 - 25th Training
DESCRIPTION:Next generation data exchange\, not just for EDI Experts\nWebAPIs with OpenAPI 3 are now the talk of the town. Whether in the automotive industry\, trade\, customs\, FinTecs or insurance. Companies everywhere are increasingly relying on APIs. International standardisation organisations such as UN/CEFACT are also addressing this topic. \nThe OpenAPI 3.x specification standard seems to be gaining acceptance here. It combines the claim to make an API readable both for a computer and for the web developer\, who then has to implement it. \nSo is this the next generation of data exchange? Will it be able to solve all syntax problems and will it completely replace the classic EDI? \nThe online training introduces the topic of APIs and their benefits in the B2B and B2G environment. It also highlights the differences between web services and WebAPIs. Different approaches to message and resource-based data exchange make it possible\, with appropriate design\, to cover future use cases that were not even known when the API was created. \nKey topics from the training\n\nAPI – Terms and Basics\nAPI – Classification and Distinction from Classic EDI (Web Services\, SOA\, REST\, Open API versus Public API)\nREST Service Contracts and Design Principles\nEvent-driven data exchange\nThe Open API 3.x specification standard\nAPI Management and Governance\nAPI development tips\n\n  \nAny questions about the web training and/or input on webinar topics? \nTarget audiences\nThe training is aimed at all those who want to get to know the concept of WebAPIs with OpenAPI 3 and their applicability for B2B and B2G data exchange. This includes both beginners to the topic as well as EDI experts who are dealing with WebAPIs for the first time. \nPrerequisites\nThe training does not require any programming knowledge. However\, a basic understanding of data exchange between applications\, for example based on EDIFACT\, XML or similar formats\, is helpful. \nDuration\n2x 3 hours \nDates\n2024-11-26\, 2 to 5 pm CET (1st part)\n2024-11-28\, 2 to 5 pm CET (2nd part) \nThis training is available in German language as well. \n \n        \n    \n\n\n\n\n\n    \n    \n	\n		\n        REGISTER NOW\n		\n	\n\n\n\n\n\n\n    \n        \n                \n                     When you click on the registration button\, you will be redirected to the LogMeIn\, Inc. GoToWebinar page to register and provide you with important information related to this event.
URL:https://www.gefeg.com/en/event/webapis-with-openapi-3-for-data-exchange-25/2024-11-28/
CATEGORIES:Web-Training
ATTACH;FMTTYPE=image/jpeg:https://www.gefeg.com/wp-content/uploads/2023/06/API_1280x720-1.jpg
END:VEVENT
END:VCALENDAR