BEGIN:VCALENDAR
VERSION:2.0
PRODID:-//GEFEG mbH - ECPv6.15.20//NONSGML v1.0//EN
CALSCALE:GREGORIAN
METHOD:PUBLISH
X-WR-CALNAME:GEFEG mbH
X-ORIGINAL-URL:https://www.gefeg.com/en/
X-WR-CALDESC:Events for GEFEG mbH
REFRESH-INTERVAL;VALUE=DURATION:PT1H
X-Robots-Tag:noindex
X-PUBLISHED-TTL:PT1H
BEGIN:VTIMEZONE
TZID:Europe/Berlin
BEGIN:DAYLIGHT
TZOFFSETFROM:+0100
TZOFFSETTO:+0200
TZNAME:CEST
DTSTART:20250330T010000
END:DAYLIGHT
BEGIN:STANDARD
TZOFFSETFROM:+0200
TZOFFSETTO:+0100
TZNAME:CET
DTSTART:20251026T010000
END:STANDARD
BEGIN:DAYLIGHT
TZOFFSETFROM:+0100
TZOFFSETTO:+0200
TZNAME:CEST
DTSTART:20260329T010000
END:DAYLIGHT
BEGIN:STANDARD
TZOFFSETFROM:+0200
TZOFFSETTO:+0100
TZNAME:CET
DTSTART:20261025T010000
END:STANDARD
BEGIN:DAYLIGHT
TZOFFSETFROM:+0100
TZOFFSETTO:+0200
TZNAME:CEST
DTSTART:20270328T010000
END:DAYLIGHT
BEGIN:STANDARD
TZOFFSETFROM:+0200
TZOFFSETTO:+0100
TZNAME:CET
DTSTART:20271031T010000
END:STANDARD
END:VTIMEZONE
BEGIN:VEVENT
DTSTART;TZID=Europe/Berlin:20260505T150000
DTEND;TZID=Europe/Berlin:20260505T160000
DTSTAMP:20260421T132149
CREATED:20251128T094256Z
LAST-MODIFIED:20251203T150137Z
UID:10000442-1777993200-1777996800@www.gefeg.com
SUMMARY:UN/CEFACT Multimodal Transport Reference Data Model – Reuse and specification of ready-to-use building blocks for your data model – Free Webinar
DESCRIPTION:REGISTER NOW
URL:https://www.gefeg.com/en/event/un-cefact-multimodal-transport-reference-data-model-reuse-and-specification-of-ready-to-use-building-blocks-for-your-data-model-webinar/
CATEGORIES:Webinar
ATTACH;FMTTYPE=image/jpeg:https://www.gefeg.com/wp-content/uploads/2023/07/Webinar-Daten-harmonisieren-im-Transport-Sektor.jpg
END:VEVENT
BEGIN:VEVENT
DTSTART;TZID=Europe/Berlin:20260519T150000
DTEND;TZID=Europe/Berlin:20260519T160000
DTSTAMP:20260421T132149
CREATED:20251128T094541Z
LAST-MODIFIED:20251208T085110Z
UID:10000441-1779202800-1779206400@www.gefeg.com
SUMMARY:Using JSON Schema with GEFEG.FX – How does it work? – Webinar - Free webinar
DESCRIPTION:REGISTER NOW
URL:https://www.gefeg.com/en/event/json-schema-mit-gefeg-fx-verwenden-wie-geht-das-webinar/
CATEGORIES:Webinar
ATTACH;FMTTYPE=image/jpeg:https://www.gefeg.com/wp-content/uploads/2024/02/Webinar-JSON-Intro-3840x1220-1.jpg
END:VEVENT
BEGIN:VEVENT
DTSTART;TZID=Europe/Berlin:20260529T150000
DTEND;TZID=Europe/Berlin:20260529T160000
DTSTAMP:20260421T132149
CREATED:20251128T094737Z
LAST-MODIFIED:20260416T083750Z
UID:10000440-1780066800-1780070400@www.gefeg.com
SUMMARY:Automatic standards compliance\, accelerated delivery: Get to know the GEFEG API Hub!- Free webinar
DESCRIPTION:Create your API specifications directly in GEFEG.FX and publish them seamlessly in the GEFEG API Hub. \nBenefit from an end-to-end solution for APIs—from modeling and coordination to deployment. \nYour benefits at a glance: \n\nSeamless publication in the GEFEG API Hub directly from GEFEG.FX\nPresentation of your API in human-readable form and clearly organized sections\nBasic testing functions for API parameters\nTargeted and thus secure access for project teams and partners\nPublic availability for internal and external users\n\nOn the GEFEG API Hub\, you first manage your content privately and retain full control over access and publication at all times. \nOnce your API is ready you can make it publicly available on the GEFEG API Hub with just a few clicks. \nExperience the GEFEG API Hub in our free webinar on Mai 29\, 2026\, from 3:00 PM to 4:00 PM CEST. \nIn the webinar\, you’ll learn how to plan and create APIs with GEFEG.FX. Topics include: \n\nIntroduction to the GEFEG.FX API Editor for creating an API in OpenAPI3 format\nReuse of existing GEFEG.FX schemas and models in APIs\n  Integration of international or company-specific code lists\nExporting APIs in JSON and YAML formats\nCommon pitfalls in API design and how to avoid them\nLive demo of GEFEG.FX: Creating an API from a GEFEG.FX schema\nLive demo of the GEFEG API Hub: Features of the GEFEG API Hub\n\nWho should participate?\nBusiness and EDI specialists interested in understanding how APIs extend and improve traditional EDI. \nIT and technology specialists who want to reuse existing schemas and convert them into APIs\, or who want to explore OpenAPI-based development. \nNo prior knowledge of APIs is required. A general understanding of the GEFEG.FX schemas and data models is helpful. \nPlease note that the webinar will be conducted in English. \nDetails\n\nFormat: Interactive online webinar\nDuration: 50–60 minutes\n\n👉 Register now for: \n\nGetting a brief introduction to APIs\nCreating APIs from scratch\nTransforming existing GEFEG.FX schemas and models into ready-to-use APIs\nFind out more about the practical process of API creation\nExperience the live creation of an API from a GEFEG.FX schema\nLearn how to provide public access for internal and external users.\n\n \n        \n    \n\n\n\n\n    \n        \n                \n                     This webinar will be conducted in English. \n \n        \n    \n\n\n\n\n\n    \n    \n	\n		\n        REGISTER NOW\n		\n	\n\n\n\n\n\n\n    \n        \n                \n                     When you click on the registration button\, you will be directed to the LogMeIn\, Inc. GoToWebinar website\, where you can register and obtain important information about this event.
URL:https://www.gefeg.com/en/event/plan-and-develop-apis-with-gefeg-fx-for-businesses/
CATEGORIES:Webinar
ATTACH;FMTTYPE=image/jpeg:https://www.gefeg.com/wp-content/uploads/2023/08/Webinar-Jetzt-APIs-mit-GEFEG.FX-planen.jpg
END:VEVENT
END:VCALENDAR