BEGIN:VCALENDAR
VERSION:2.0
PRODID:-//GEFEG mbH - ECPv6.15.20//NONSGML v1.0//EN
CALSCALE:GREGORIAN
METHOD:PUBLISH
X-ORIGINAL-URL:https://www.gefeg.com/en/
X-WR-CALDESC:Events for GEFEG mbH
REFRESH-INTERVAL;VALUE=DURATION:PT1H
X-Robots-Tag:noindex
X-PUBLISHED-TTL:PT1H
BEGIN:VTIMEZONE
TZID:Europe/Berlin
BEGIN:DAYLIGHT
TZOFFSETFROM:+0100
TZOFFSETTO:+0200
TZNAME:CEST
DTSTART:20250330T010000
END:DAYLIGHT
BEGIN:STANDARD
TZOFFSETFROM:+0200
TZOFFSETTO:+0100
TZNAME:CET
DTSTART:20251026T010000
END:STANDARD
BEGIN:DAYLIGHT
TZOFFSETFROM:+0100
TZOFFSETTO:+0200
TZNAME:CEST
DTSTART:20260329T010000
END:DAYLIGHT
BEGIN:STANDARD
TZOFFSETFROM:+0200
TZOFFSETTO:+0100
TZNAME:CET
DTSTART:20261025T010000
END:STANDARD
BEGIN:DAYLIGHT
TZOFFSETFROM:+0100
TZOFFSETTO:+0200
TZNAME:CEST
DTSTART:20270328T010000
END:DAYLIGHT
BEGIN:STANDARD
TZOFFSETFROM:+0200
TZOFFSETTO:+0100
TZNAME:CET
DTSTART:20271031T010000
END:STANDARD
END:VTIMEZONE
BEGIN:VEVENT
DTSTART;TZID=Europe/Berlin:20260429T150000
DTEND;TZID=Europe/Berlin:20260429T160000
DTSTAMP:20260421T144349
CREATED:20251128T093523Z
LAST-MODIFIED:20251208T082632Z
UID:10000443-1777474800-1777478400@www.gefeg.com
SUMMARY:Finding errors in EDI interfaces – Testing business messages – Webinar
DESCRIPTION:REGISTER NOW
URL:https://www.gefeg.com/en/event/finding-errors-in-edi-interfaces-testing-business-messages-webinar/
CATEGORIES:Webinar
ATTACH;FMTTYPE=image/jpeg:https://www.gefeg.com/wp-content/uploads/2023/08/Webinar-Validation-XML-EDIFACT-specs.jpg
END:VEVENT
END:VCALENDAR