BEGIN:VCALENDAR
VERSION:2.0
PRODID:-//GEFEG mbH - ECPv6.15.20//NONSGML v1.0//EN
CALSCALE:GREGORIAN
METHOD:PUBLISH
X-ORIGINAL-URL:https://www.gefeg.com/en/
X-WR-CALDESC:Events for GEFEG mbH
REFRESH-INTERVAL;VALUE=DURATION:PT1H
X-Robots-Tag:noindex
X-PUBLISHED-TTL:PT1H
BEGIN:VTIMEZONE
TZID:Europe/Berlin
BEGIN:DAYLIGHT
TZOFFSETFROM:+0100
TZOFFSETTO:+0200
TZNAME:CEST
DTSTART:20220327T010000
END:DAYLIGHT
BEGIN:STANDARD
TZOFFSETFROM:+0200
TZOFFSETTO:+0100
TZNAME:CET
DTSTART:20221030T010000
END:STANDARD
BEGIN:DAYLIGHT
TZOFFSETFROM:+0100
TZOFFSETTO:+0200
TZNAME:CEST
DTSTART:20230326T010000
END:DAYLIGHT
BEGIN:STANDARD
TZOFFSETFROM:+0200
TZOFFSETTO:+0100
TZNAME:CET
DTSTART:20231029T010000
END:STANDARD
BEGIN:DAYLIGHT
TZOFFSETFROM:+0100
TZOFFSETTO:+0200
TZNAME:CEST
DTSTART:20240331T010000
END:DAYLIGHT
BEGIN:STANDARD
TZOFFSETFROM:+0200
TZOFFSETTO:+0100
TZNAME:CET
DTSTART:20241027T010000
END:STANDARD
END:VTIMEZONE
BEGIN:VEVENT
DTSTART;TZID=Europe/Berlin:20230929T110000
DTEND;TZID=Europe/Berlin:20230929T120000
DTSTAMP:20260422T033332
CREATED:20230808T101622Z
LAST-MODIFIED:20230919T131108Z
UID:10000115-1695985200-1695988800@www.gefeg.com
SUMMARY:Efficiently develop guidelines for business data exchange with GEFEG.FX - Free webinar
DESCRIPTION:When preparing the exchange of business messages\, most companies rely on international e-business standards such as EDIFACT\, GS1 EANCOM®\, Odette\, VDA or others in order to develop guidelines for business data exchange. Other companies use proprietary standards or flat file formats. \nRegardless of the e-business standard\, the goal remains the same: a precise\, error-free specification that reflects the specific business message exchange requirements of your company or organization. GEFEG.FX software offers you access to international standards and comprehensive and useful functions for efficiently developing guidelines. \nJoin our webinar and learn how to efficiently create company-specific specifications reusing classic B2B standards in GEFEG.FX. For advanced GEFEG.FX users\, we will present tips and tricks on features such as multi-language support of a guide\, or how to update a specification to a newer release of a B2B standard. \nWebinar topics of “Efficiently develop guidelines for business data exchange with GEFEG.FX”\n\nCreate standards-compliant guidelines based on international standards with GEFEG.FX\nGenerate a documentation of your company-specific requirements with just a few clicks\nUse GEFEG.FX to reduce your coordination efforts with your EDI partners and save time when connecting your partners to your EDI systems.\n\nAny questions about the webinar and/or input on other webinar topics? \nWho should participate?\nWe recommend the webinar to planners and developers of business data interchange based on business standards \nWhat should you already know ?\nBasic understanding of business data exchange is recommended. \nHow much time will the webinar take?\nPlan approx. 50 – 60 minutes for the webinar. \n \n        \n    \n\n\n\n\n\n    \n    \n	\n		\n        Too bad. The registration deadline has passed. Have a look for alternatives here.
URL:https://www.gefeg.com/en/event/efficiently-develop-guidelines-for-business-data-exchange-with-gefeg-fx-free-webinar/
LOCATION:Online
CATEGORIES:Webinar
ATTACH;FMTTYPE=image/jpeg:https://www.gefeg.com/wp-content/uploads/2023/08/Effizient-Guidelines-fuer-den-Geschaeftsdatenaustausch-entwickeln-Webinar.jpg
END:VEVENT
BEGIN:VEVENT
DTSTART;TZID=Europe/Berlin:20230927T150000
DTEND;TZID=Europe/Berlin:20230927T163000
DTSTAMP:20260422T033332
CREATED:20230920T122858Z
LAST-MODIFIED:20230920T130334Z
UID:10000153-1695826800-1695832200@www.gefeg.com
SUMMARY:WCO Data Model 4.0.0: What should you know about the new version\, and what does it mean for your implementation? – Webinar
DESCRIPTION:WCO Data Model – Global Standard for Seamless Cross-border Regulatory Transactions\nAs of now\, the WCO Data Model version 4.0.0 publicly is available in the GEFEG.FX Distribution\, which follows the World Customs Organisation’s release of its latest version of the Data Model. The new version includes changes and updates introduced by users from Customs Authorities from around the globe and corrective changes introduced by the WCO’s modelling focus group\, then approved and published by the Data Model Projects Team (DMPT). The Data Model Projects Team is the responsible body for the development and maintenance of the WCO Data Model. \nWhat Business and Technical users should know about the new WCO Data Model version 4.0.0 in GEFEG.FX\nIn the webinar we will provide an overview about the deliverables\, changes and their potential impacts on existing and planned implementations to business and technical implementers of the WCO Data Model. Additionally\, we will briefly present the How-to documents that support users in applying all typical steps to implement and migrate to a new version of the WCO Data Model. Additionally the webinar offers a Questions & Answers session so that participants may raise questions and provide comments. \nWebinar Topics of What should you know about the new version\, and what does it mean for your implementation?\n\nQuick overview of the new WCO Data Model version 4.0.0 and its GEFEG deliverables\nGuidelines and How-To-Documents supporting implementation of the WCO Data Model\nQuestions & Answers session for technical implementers and business users\n\nWho should attend?\nBusiness experts and technical implementers of the WCO Data Model\, GEFEG.FX users \nWhat should you already know?\nPractical experience with GEFEG.FX and the WCO Data Model \nHow much time will the webinar take?\nApprox. 90 minutes \nCosts\nFree of charge service for GEFEG.FX customers and any other interested parties \n \n        \n    \n\n\n\n\n\n    \n    \n	\n		\n        Too bad. The registration deadline has passed. Have a look for alternatives here.
URL:https://www.gefeg.com/en/event/wco-data-model-4-0-0-what-should-you-know-about-the-new-version-and-what-does-it-mean-for-your-implementation-webinar-2/
ATTACH;FMTTYPE=image/jpeg:https://www.gefeg.com/wp-content/uploads/2023/09/Webinar-WCO-DataModel-V-4.0.0-WhatsNew.jpg
END:VEVENT
BEGIN:VEVENT
DTSTART;TZID=Europe/Berlin:20230927T110000
DTEND;TZID=Europe/Berlin:20230927T123000
DTSTAMP:20260422T033332
CREATED:20230920T122853Z
LAST-MODIFIED:20230920T130309Z
UID:10000152-1695812400-1695817800@www.gefeg.com
SUMMARY:WCO Data Model 4.0.0: What should you know about the new version\, and what does it mean for your implementation? – Webinar
DESCRIPTION:WCO Data Model – Global Standard for Seamless Cross-border Regulatory Transactions\nAs of now\, the WCO Data Model version 4.0.0 publicly is available in the GEFEG.FX Distribution\, which follows the World Customs Organisation’s release of its latest version of the Data Model. The new version includes changes and updates introduced by users from Customs Authorities from around the globe and corrective changes introduced by the WCO’s modelling focus group\, then approved and published by the Data Model Projects Team (DMPT). The Data Model Projects Team is the responsible body for the development and maintenance of the WCO Data Model. \nWhat Business and Technical users should know about the new WCO Data Model version 4.0.0 in GEFEG.FX\nIn the webinar we will provide an overview about the deliverables\, changes and their potential impacts on existing and planned implementations to business and technical implementers of the WCO Data Model. Additionally\, we will briefly present the How-to documents that support users in applying all typical steps to implement and migrate to a new version of the WCO Data Model. Additionally the webinar offers a Questions & Answers session so that participants may raise questions and provide comments. \nWebinar Topics of What should you know about the new version\, and what does it mean for your implementation?\n\nQuick overview of the new WCO Data Model version 4.0.0 and its GEFEG deliverables\nGuidelines and How-To-Documents supporting implementation of the WCO Data Model\nQuestions & Answers session for technical implementers and business users\n\nWho should attend?\nBusiness experts and technical implementers of the WCO Data Model\, GEFEG.FX users \nWhat should you already know?\nPractical experience with GEFEG.FX and the WCO Data Model \nHow much time will the webinar take?\nApprox. 90 minutes \nCosts\nFree of charge service for GEFEG.FX customers and any other interested parties \n \n        \n    \n\n\n\n\n\n    \n    \n	\n		\n        Too bad. The registration deadline has passed. Have a look for alternatives here.
URL:https://www.gefeg.com/en/event/wco-data-model-4-0-0-what-should-you-know-about-the-new-version-and-what-does-it-mean-for-your-implementation-webinar/
ATTACH;FMTTYPE=image/jpeg:https://www.gefeg.com/wp-content/uploads/2023/09/Webinar-WCO-DataModel-V-4.0.0-WhatsNew.jpg
END:VEVENT
END:VCALENDAR